BEGIN:VCALENDAR
VERSION:2.0
PRODID:-//Lost Nation Golf Course - ECPv6.15.18//NONSGML v1.0//EN
CALSCALE:GREGORIAN
METHOD:PUBLISH
X-ORIGINAL-URL:https://www.lostnationgolf.com
X-WR-CALDESC:Events for Lost Nation Golf Course
REFRESH-INTERVAL;VALUE=DURATION:PT1H
X-Robots-Tag:noindex
X-PUBLISHED-TTL:PT1H
BEGIN:VTIMEZONE
TZID:UTC
BEGIN:STANDARD
TZOFFSETFROM:+0000
TZOFFSETTO:+0000
TZNAME:UTC
DTSTART:20270101T000000
END:STANDARD
END:VTIMEZONE
BEGIN:VEVENT
DTSTART;TZID=UTC:20280502T150000
DTEND;TZID=UTC:20280502T170000
DTSTAMP:20260421T230735
CREATED:20230719T191655Z
LAST-MODIFIED:20230719T191655Z
UID:10000612-1840892400-1840899600@www.lostnationgolf.com
SUMMARY:Men's League
DESCRIPTION:
URL:https://www.lostnationgolf.com/event/mens-league/2028-05-02/
END:VEVENT
BEGIN:VEVENT
DTSTART;TZID=UTC:20280504T150000
DTEND;TZID=UTC:20280504T170000
DTSTAMP:20260421T230735
CREATED:20230719T191514Z
LAST-MODIFIED:20230719T191514Z
UID:10000251-1841065200-1841072400@www.lostnationgolf.com
SUMMARY:Ladies' Night
DESCRIPTION:
URL:https://www.lostnationgolf.com/event/ladies-night/2028-05-04/
END:VEVENT
BEGIN:VEVENT
DTSTART;TZID=UTC:20280509T150000
DTEND;TZID=UTC:20280509T170000
DTSTAMP:20260421T230735
CREATED:20230719T191655Z
LAST-MODIFIED:20230719T191655Z
UID:10000613-1841497200-1841504400@www.lostnationgolf.com
SUMMARY:Men's League
DESCRIPTION:
URL:https://www.lostnationgolf.com/event/mens-league/2028-05-09/
END:VEVENT
BEGIN:VEVENT
DTSTART;TZID=UTC:20280511T150000
DTEND;TZID=UTC:20280511T170000
DTSTAMP:20260421T230735
CREATED:20230719T191514Z
LAST-MODIFIED:20230719T191514Z
UID:10000252-1841670000-1841677200@www.lostnationgolf.com
SUMMARY:Ladies' Night
DESCRIPTION:
URL:https://www.lostnationgolf.com/event/ladies-night/2028-05-11/
END:VEVENT
BEGIN:VEVENT
DTSTART;TZID=UTC:20280516T150000
DTEND;TZID=UTC:20280516T170000
DTSTAMP:20260421T230735
CREATED:20230719T191655Z
LAST-MODIFIED:20230719T191655Z
UID:10000614-1842102000-1842109200@www.lostnationgolf.com
SUMMARY:Men's League
DESCRIPTION:
URL:https://www.lostnationgolf.com/event/mens-league/2028-05-16/
END:VEVENT
BEGIN:VEVENT
DTSTART;TZID=UTC:20280518T150000
DTEND;TZID=UTC:20280518T170000
DTSTAMP:20260421T230735
CREATED:20230719T191514Z
LAST-MODIFIED:20230719T191514Z
UID:10000253-1842274800-1842282000@www.lostnationgolf.com
SUMMARY:Ladies' Night
DESCRIPTION:
URL:https://www.lostnationgolf.com/event/ladies-night/2028-05-18/
END:VEVENT
BEGIN:VEVENT
DTSTART;TZID=UTC:20280523T150000
DTEND;TZID=UTC:20280523T170000
DTSTAMP:20260421T230735
CREATED:20230719T191655Z
LAST-MODIFIED:20230719T191655Z
UID:10000615-1842706800-1842714000@www.lostnationgolf.com
SUMMARY:Men's League
DESCRIPTION:
URL:https://www.lostnationgolf.com/event/mens-league/2028-05-23/
END:VEVENT
BEGIN:VEVENT
DTSTART;TZID=UTC:20280525T150000
DTEND;TZID=UTC:20280525T170000
DTSTAMP:20260421T230735
CREATED:20230719T191514Z
LAST-MODIFIED:20230719T191514Z
UID:10000254-1842879600-1842886800@www.lostnationgolf.com
SUMMARY:Ladies' Night
DESCRIPTION:
URL:https://www.lostnationgolf.com/event/ladies-night/2028-05-25/
END:VEVENT
BEGIN:VEVENT
DTSTART;VALUE=DATE:20280527
DTEND;VALUE=DATE:20280528
DTSTAMP:20260421T230735
CREATED:20230719T191546Z
LAST-MODIFIED:20230719T191546Z
UID:10000353-1842998400-1843084799@www.lostnationgolf.com
SUMMARY:Golf Tournament
DESCRIPTION:
URL:https://www.lostnationgolf.com/event/golf-tournament/2028-05-27/
END:VEVENT
BEGIN:VEVENT
DTSTART;TZID=UTC:20280530T150000
DTEND;TZID=UTC:20280530T170000
DTSTAMP:20260421T230735
CREATED:20230719T191655Z
LAST-MODIFIED:20230719T191655Z
UID:10000616-1843311600-1843318800@www.lostnationgolf.com
SUMMARY:Men's League
DESCRIPTION:
URL:https://www.lostnationgolf.com/event/mens-league/2028-05-30/
END:VEVENT
END:VCALENDAR