BEGIN:VCALENDAR
VERSION:2.0
PRODID:-//Lost Nation Golf Course - ECPv6.15.18//NONSGML v1.0//EN
CALSCALE:GREGORIAN
METHOD:PUBLISH
X-WR-CALNAME:Lost Nation Golf Course
X-ORIGINAL-URL:https://www.lostnationgolf.com
X-WR-CALDESC:Events for Lost Nation Golf Course
REFRESH-INTERVAL;VALUE=DURATION:PT1H
X-Robots-Tag:noindex
X-PUBLISHED-TTL:PT1H
BEGIN:VTIMEZONE
TZID:UTC
BEGIN:STANDARD
TZOFFSETFROM:+0000
TZOFFSETTO:+0000
TZNAME:UTC
DTSTART:20270101T000000
END:STANDARD
END:VTIMEZONE
BEGIN:VEVENT
DTSTART;TZID=UTC:20280404T150000
DTEND;TZID=UTC:20280404T170000
DTSTAMP:20260421T214319
CREATED:20230719T191655Z
LAST-MODIFIED:20230719T191655Z
UID:10000608-1838473200-1838480400@www.lostnationgolf.com
SUMMARY:Men's League
DESCRIPTION:
URL:https://www.lostnationgolf.com/event/mens-league/2028-04-04/
END:VEVENT
BEGIN:VEVENT
DTSTART;TZID=UTC:20280406T150000
DTEND;TZID=UTC:20280406T170000
DTSTAMP:20260421T214319
CREATED:20230719T191514Z
LAST-MODIFIED:20230719T191514Z
UID:10000247-1838646000-1838653200@www.lostnationgolf.com
SUMMARY:Ladies' Night
DESCRIPTION:
URL:https://www.lostnationgolf.com/event/ladies-night/2028-04-06/
END:VEVENT
BEGIN:VEVENT
DTSTART;TZID=UTC:20280411T150000
DTEND;TZID=UTC:20280411T170000
DTSTAMP:20260421T214319
CREATED:20230719T191655Z
LAST-MODIFIED:20230719T191655Z
UID:10000609-1839078000-1839085200@www.lostnationgolf.com
SUMMARY:Men's League
DESCRIPTION:
URL:https://www.lostnationgolf.com/event/mens-league/2028-04-11/
END:VEVENT
BEGIN:VEVENT
DTSTART;TZID=UTC:20280413T150000
DTEND;TZID=UTC:20280413T170000
DTSTAMP:20260421T214319
CREATED:20230719T191514Z
LAST-MODIFIED:20230719T191514Z
UID:10000248-1839250800-1839258000@www.lostnationgolf.com
SUMMARY:Ladies' Night
DESCRIPTION:
URL:https://www.lostnationgolf.com/event/ladies-night/2028-04-13/
END:VEVENT
BEGIN:VEVENT
DTSTART;TZID=UTC:20280418T150000
DTEND;TZID=UTC:20280418T170000
DTSTAMP:20260421T214319
CREATED:20230719T191655Z
LAST-MODIFIED:20230719T191655Z
UID:10000610-1839682800-1839690000@www.lostnationgolf.com
SUMMARY:Men's League
DESCRIPTION:
URL:https://www.lostnationgolf.com/event/mens-league/2028-04-18/
END:VEVENT
BEGIN:VEVENT
DTSTART;TZID=UTC:20280420T150000
DTEND;TZID=UTC:20280420T170000
DTSTAMP:20260421T214319
CREATED:20230719T191514Z
LAST-MODIFIED:20230719T191514Z
UID:10000249-1839855600-1839862800@www.lostnationgolf.com
SUMMARY:Ladies' Night
DESCRIPTION:
URL:https://www.lostnationgolf.com/event/ladies-night/2028-04-20/
END:VEVENT
BEGIN:VEVENT
DTSTART;VALUE=DATE:20280422
DTEND;VALUE=DATE:20280423
DTSTAMP:20260421T214319
CREATED:20230719T191546Z
LAST-MODIFIED:20230719T191546Z
UID:10000352-1839974400-1840060799@www.lostnationgolf.com
SUMMARY:Golf Tournament
DESCRIPTION:
URL:https://www.lostnationgolf.com/event/golf-tournament/2028-04-22/
END:VEVENT
BEGIN:VEVENT
DTSTART;TZID=UTC:20280425T150000
DTEND;TZID=UTC:20280425T170000
DTSTAMP:20260421T214319
CREATED:20230719T191655Z
LAST-MODIFIED:20230719T191655Z
UID:10000611-1840287600-1840294800@www.lostnationgolf.com
SUMMARY:Men's League
DESCRIPTION:
URL:https://www.lostnationgolf.com/event/mens-league/2028-04-25/
END:VEVENT
BEGIN:VEVENT
DTSTART;TZID=UTC:20280427T150000
DTEND;TZID=UTC:20280427T170000
DTSTAMP:20260421T214319
CREATED:20230719T191514Z
LAST-MODIFIED:20230719T191514Z
UID:10000250-1840460400-1840467600@www.lostnationgolf.com
SUMMARY:Ladies' Night
DESCRIPTION:
URL:https://www.lostnationgolf.com/event/ladies-night/2028-04-27/
END:VEVENT
END:VCALENDAR