BEGIN:VCALENDAR
VERSION:2.0
PRODID:-//Lost Nation Golf Course - ECPv6.15.18//NONSGML v1.0//EN
CALSCALE:GREGORIAN
METHOD:PUBLISH
X-ORIGINAL-URL:https://www.lostnationgolf.com
X-WR-CALDESC:Events for Lost Nation Golf Course
REFRESH-INTERVAL;VALUE=DURATION:PT1H
X-Robots-Tag:noindex
X-PUBLISHED-TTL:PT1H
BEGIN:VTIMEZONE
TZID:UTC
BEGIN:STANDARD
TZOFFSETFROM:+0000
TZOFFSETTO:+0000
TZNAME:UTC
DTSTART:20260101T000000
END:STANDARD
END:VTIMEZONE
BEGIN:VEVENT
DTSTART;TZID=UTC:20271202T150000
DTEND;TZID=UTC:20271202T170000
DTSTAMP:20260421T162505
CREATED:20230719T191514Z
LAST-MODIFIED:20230719T191514Z
UID:10000229-1827759600-1827766800@www.lostnationgolf.com
SUMMARY:Ladies' Night
DESCRIPTION:
URL:https://www.lostnationgolf.com/event/ladies-night/2027-12-02/
END:VEVENT
BEGIN:VEVENT
DTSTART;TZID=UTC:20271207T150000
DTEND;TZID=UTC:20271207T170000
DTSTAMP:20260421T162505
CREATED:20230719T191655Z
LAST-MODIFIED:20230719T191655Z
UID:10000591-1828191600-1828198800@www.lostnationgolf.com
SUMMARY:Men's League
DESCRIPTION:
URL:https://www.lostnationgolf.com/event/mens-league/2027-12-07/
END:VEVENT
BEGIN:VEVENT
DTSTART;TZID=UTC:20271209T150000
DTEND;TZID=UTC:20271209T170000
DTSTAMP:20260421T162505
CREATED:20230719T191514Z
LAST-MODIFIED:20230719T191514Z
UID:10000230-1828364400-1828371600@www.lostnationgolf.com
SUMMARY:Ladies' Night
DESCRIPTION:
URL:https://www.lostnationgolf.com/event/ladies-night/2027-12-09/
END:VEVENT
BEGIN:VEVENT
DTSTART;TZID=UTC:20271214T150000
DTEND;TZID=UTC:20271214T170000
DTSTAMP:20260421T162505
CREATED:20230719T191655Z
LAST-MODIFIED:20230719T191655Z
UID:10000592-1828796400-1828803600@www.lostnationgolf.com
SUMMARY:Men's League
DESCRIPTION:
URL:https://www.lostnationgolf.com/event/mens-league/2027-12-14/
END:VEVENT
BEGIN:VEVENT
DTSTART;TZID=UTC:20271216T150000
DTEND;TZID=UTC:20271216T170000
DTSTAMP:20260421T162505
CREATED:20230719T191514Z
LAST-MODIFIED:20230719T191514Z
UID:10000231-1828969200-1828976400@www.lostnationgolf.com
SUMMARY:Ladies' Night
DESCRIPTION:
URL:https://www.lostnationgolf.com/event/ladies-night/2027-12-16/
END:VEVENT
BEGIN:VEVENT
DTSTART;TZID=UTC:20271221T150000
DTEND;TZID=UTC:20271221T170000
DTSTAMP:20260421T162505
CREATED:20230719T191655Z
LAST-MODIFIED:20230719T191655Z
UID:10000593-1829401200-1829408400@www.lostnationgolf.com
SUMMARY:Men's League
DESCRIPTION:
URL:https://www.lostnationgolf.com/event/mens-league/2027-12-21/
END:VEVENT
BEGIN:VEVENT
DTSTART;TZID=UTC:20271223T150000
DTEND;TZID=UTC:20271223T170000
DTSTAMP:20260421T162505
CREATED:20230719T191514Z
LAST-MODIFIED:20230719T191514Z
UID:10000232-1829574000-1829581200@www.lostnationgolf.com
SUMMARY:Ladies' Night
DESCRIPTION:
URL:https://www.lostnationgolf.com/event/ladies-night/2027-12-23/
END:VEVENT
BEGIN:VEVENT
DTSTART;VALUE=DATE:20271225
DTEND;VALUE=DATE:20271226
DTSTAMP:20260421T162505
CREATED:20230719T191546Z
LAST-MODIFIED:20230719T191546Z
UID:10000348-1829692800-1829779199@www.lostnationgolf.com
SUMMARY:Golf Tournament
DESCRIPTION:
URL:https://www.lostnationgolf.com/event/golf-tournament/2027-12-25/
END:VEVENT
BEGIN:VEVENT
DTSTART;TZID=UTC:20271228T150000
DTEND;TZID=UTC:20271228T170000
DTSTAMP:20260421T162505
CREATED:20230719T191655Z
LAST-MODIFIED:20230719T191655Z
UID:10000594-1830006000-1830013200@www.lostnationgolf.com
SUMMARY:Men's League
DESCRIPTION:
URL:https://www.lostnationgolf.com/event/mens-league/2027-12-28/
END:VEVENT
BEGIN:VEVENT
DTSTART;TZID=UTC:20271230T150000
DTEND;TZID=UTC:20271230T170000
DTSTAMP:20260421T162505
CREATED:20230719T191514Z
LAST-MODIFIED:20230719T191514Z
UID:10000233-1830178800-1830186000@www.lostnationgolf.com
SUMMARY:Ladies' Night
DESCRIPTION:
URL:https://www.lostnationgolf.com/event/ladies-night/2027-12-30/
END:VEVENT
END:VCALENDAR