BEGIN:VCALENDAR
VERSION:2.0
PRODID:-//Lost Nation Golf Course - ECPv6.15.18//NONSGML v1.0//EN
CALSCALE:GREGORIAN
METHOD:PUBLISH
X-ORIGINAL-URL:https://www.lostnationgolf.com
X-WR-CALDESC:Events for Lost Nation Golf Course
REFRESH-INTERVAL;VALUE=DURATION:PT1H
X-Robots-Tag:noindex
X-PUBLISHED-TTL:PT1H
BEGIN:VTIMEZONE
TZID:UTC
BEGIN:STANDARD
TZOFFSETFROM:+0000
TZOFFSETTO:+0000
TZNAME:UTC
DTSTART:20260101T000000
END:STANDARD
END:VTIMEZONE
BEGIN:VEVENT
DTSTART;TZID=UTC:20271005T150000
DTEND;TZID=UTC:20271005T170000
DTSTAMP:20260421T134014
CREATED:20230719T191655Z
LAST-MODIFIED:20230719T191655Z
UID:10000582-1822748400-1822755600@www.lostnationgolf.com
SUMMARY:Men's League
DESCRIPTION:
URL:https://www.lostnationgolf.com/event/mens-league/2027-10-05/
END:VEVENT
BEGIN:VEVENT
DTSTART;TZID=UTC:20271007T150000
DTEND;TZID=UTC:20271007T170000
DTSTAMP:20260421T134014
CREATED:20230719T191514Z
LAST-MODIFIED:20230719T191514Z
UID:10000221-1822921200-1822928400@www.lostnationgolf.com
SUMMARY:Ladies' Night
DESCRIPTION:
URL:https://www.lostnationgolf.com/event/ladies-night/2027-10-07/
END:VEVENT
BEGIN:VEVENT
DTSTART;TZID=UTC:20271012T150000
DTEND;TZID=UTC:20271012T170000
DTSTAMP:20260421T134014
CREATED:20230719T191655Z
LAST-MODIFIED:20230719T191655Z
UID:10000583-1823353200-1823360400@www.lostnationgolf.com
SUMMARY:Men's League
DESCRIPTION:
URL:https://www.lostnationgolf.com/event/mens-league/2027-10-12/
END:VEVENT
BEGIN:VEVENT
DTSTART;TZID=UTC:20271014T150000
DTEND;TZID=UTC:20271014T170000
DTSTAMP:20260421T134014
CREATED:20230719T191514Z
LAST-MODIFIED:20230719T191514Z
UID:10000222-1823526000-1823533200@www.lostnationgolf.com
SUMMARY:Ladies' Night
DESCRIPTION:
URL:https://www.lostnationgolf.com/event/ladies-night/2027-10-14/
END:VEVENT
BEGIN:VEVENT
DTSTART;TZID=UTC:20271019T150000
DTEND;TZID=UTC:20271019T170000
DTSTAMP:20260421T134014
CREATED:20230719T191655Z
LAST-MODIFIED:20230719T191655Z
UID:10000584-1823958000-1823965200@www.lostnationgolf.com
SUMMARY:Men's League
DESCRIPTION:
URL:https://www.lostnationgolf.com/event/mens-league/2027-10-19/
END:VEVENT
BEGIN:VEVENT
DTSTART;TZID=UTC:20271021T150000
DTEND;TZID=UTC:20271021T170000
DTSTAMP:20260421T134014
CREATED:20230719T191514Z
LAST-MODIFIED:20230719T191514Z
UID:10000223-1824130800-1824138000@www.lostnationgolf.com
SUMMARY:Ladies' Night
DESCRIPTION:
URL:https://www.lostnationgolf.com/event/ladies-night/2027-10-21/
END:VEVENT
BEGIN:VEVENT
DTSTART;VALUE=DATE:20271023
DTEND;VALUE=DATE:20271024
DTSTAMP:20260421T134014
CREATED:20230719T191546Z
LAST-MODIFIED:20230719T191546Z
UID:10000346-1824249600-1824335999@www.lostnationgolf.com
SUMMARY:Golf Tournament
DESCRIPTION:
URL:https://www.lostnationgolf.com/event/golf-tournament/2027-10-23/
END:VEVENT
BEGIN:VEVENT
DTSTART;TZID=UTC:20271026T150000
DTEND;TZID=UTC:20271026T170000
DTSTAMP:20260421T134014
CREATED:20230719T191655Z
LAST-MODIFIED:20230719T191655Z
UID:10000585-1824562800-1824570000@www.lostnationgolf.com
SUMMARY:Men's League
DESCRIPTION:
URL:https://www.lostnationgolf.com/event/mens-league/2027-10-26/
END:VEVENT
BEGIN:VEVENT
DTSTART;TZID=UTC:20271028T150000
DTEND;TZID=UTC:20271028T170000
DTSTAMP:20260421T134014
CREATED:20230719T191514Z
LAST-MODIFIED:20230719T191514Z
UID:10000224-1824735600-1824742800@www.lostnationgolf.com
SUMMARY:Ladies' Night
DESCRIPTION:
URL:https://www.lostnationgolf.com/event/ladies-night/2027-10-28/
END:VEVENT
END:VCALENDAR