BEGIN:VCALENDAR
VERSION:2.0
PRODID:-//Lost Nation Golf Course - ECPv6.15.18//NONSGML v1.0//EN
CALSCALE:GREGORIAN
METHOD:PUBLISH
X-ORIGINAL-URL:https://www.lostnationgolf.com
X-WR-CALDESC:Events for Lost Nation Golf Course
REFRESH-INTERVAL;VALUE=DURATION:PT1H
X-Robots-Tag:noindex
X-PUBLISHED-TTL:PT1H
BEGIN:VTIMEZONE
TZID:UTC
BEGIN:STANDARD
TZOFFSETFROM:+0000
TZOFFSETTO:+0000
TZNAME:UTC
DTSTART:20260101T000000
END:STANDARD
END:VTIMEZONE
BEGIN:VEVENT
DTSTART;TZID=UTC:20270601T150000
DTEND;TZID=UTC:20270601T170000
DTSTAMP:20260421T070156
CREATED:20230719T191655Z
LAST-MODIFIED:20230719T191655Z
UID:10000564-1811862000-1811869200@www.lostnationgolf.com
SUMMARY:Men's League
DESCRIPTION:
URL:https://www.lostnationgolf.com/event/mens-league/2027-06-01/
END:VEVENT
BEGIN:VEVENT
DTSTART;TZID=UTC:20270603T150000
DTEND;TZID=UTC:20270603T170000
DTSTAMP:20260421T070156
CREATED:20230719T191514Z
LAST-MODIFIED:20230719T191514Z
UID:10000203-1812034800-1812042000@www.lostnationgolf.com
SUMMARY:Ladies' Night
DESCRIPTION:
URL:https://www.lostnationgolf.com/event/ladies-night/2027-06-03/
END:VEVENT
BEGIN:VEVENT
DTSTART;TZID=UTC:20270608T150000
DTEND;TZID=UTC:20270608T170000
DTSTAMP:20260421T070156
CREATED:20230719T191655Z
LAST-MODIFIED:20230719T191655Z
UID:10000565-1812466800-1812474000@www.lostnationgolf.com
SUMMARY:Men's League
DESCRIPTION:
URL:https://www.lostnationgolf.com/event/mens-league/2027-06-08/
END:VEVENT
BEGIN:VEVENT
DTSTART;TZID=UTC:20270610T150000
DTEND;TZID=UTC:20270610T170000
DTSTAMP:20260421T070156
CREATED:20230719T191514Z
LAST-MODIFIED:20230719T191514Z
UID:10000204-1812639600-1812646800@www.lostnationgolf.com
SUMMARY:Ladies' Night
DESCRIPTION:
URL:https://www.lostnationgolf.com/event/ladies-night/2027-06-10/
END:VEVENT
BEGIN:VEVENT
DTSTART;TZID=UTC:20270615T150000
DTEND;TZID=UTC:20270615T170000
DTSTAMP:20260421T070156
CREATED:20230719T191655Z
LAST-MODIFIED:20230719T191655Z
UID:10000566-1813071600-1813078800@www.lostnationgolf.com
SUMMARY:Men's League
DESCRIPTION:
URL:https://www.lostnationgolf.com/event/mens-league/2027-06-15/
END:VEVENT
BEGIN:VEVENT
DTSTART;TZID=UTC:20270617T150000
DTEND;TZID=UTC:20270617T170000
DTSTAMP:20260421T070156
CREATED:20230719T191514Z
LAST-MODIFIED:20230719T191514Z
UID:10000205-1813244400-1813251600@www.lostnationgolf.com
SUMMARY:Ladies' Night
DESCRIPTION:
URL:https://www.lostnationgolf.com/event/ladies-night/2027-06-17/
END:VEVENT
BEGIN:VEVENT
DTSTART;TZID=UTC:20270622T150000
DTEND;TZID=UTC:20270622T170000
DTSTAMP:20260421T070156
CREATED:20230719T191655Z
LAST-MODIFIED:20230719T191655Z
UID:10000567-1813676400-1813683600@www.lostnationgolf.com
SUMMARY:Men's League
DESCRIPTION:
URL:https://www.lostnationgolf.com/event/mens-league/2027-06-22/
END:VEVENT
BEGIN:VEVENT
DTSTART;TZID=UTC:20270624T150000
DTEND;TZID=UTC:20270624T170000
DTSTAMP:20260421T070156
CREATED:20230719T191514Z
LAST-MODIFIED:20230719T191514Z
UID:10000206-1813849200-1813856400@www.lostnationgolf.com
SUMMARY:Ladies' Night
DESCRIPTION:
URL:https://www.lostnationgolf.com/event/ladies-night/2027-06-24/
END:VEVENT
BEGIN:VEVENT
DTSTART;VALUE=DATE:20270626
DTEND;VALUE=DATE:20270627
DTSTAMP:20260421T070156
CREATED:20230719T191546Z
LAST-MODIFIED:20230719T191546Z
UID:10000342-1813968000-1814054399@www.lostnationgolf.com
SUMMARY:Golf Tournament
DESCRIPTION:
URL:https://www.lostnationgolf.com/event/golf-tournament/2027-06-26/
END:VEVENT
BEGIN:VEVENT
DTSTART;TZID=UTC:20270629T150000
DTEND;TZID=UTC:20270629T170000
DTSTAMP:20260421T070156
CREATED:20230719T191655Z
LAST-MODIFIED:20230719T191655Z
UID:10000568-1814281200-1814288400@www.lostnationgolf.com
SUMMARY:Men's League
DESCRIPTION:
URL:https://www.lostnationgolf.com/event/mens-league/2027-06-29/
END:VEVENT
END:VCALENDAR