BEGIN:VCALENDAR
VERSION:2.0
PRODID:-//Lost Nation Golf Course - ECPv6.15.18//NONSGML v1.0//EN
CALSCALE:GREGORIAN
METHOD:PUBLISH
X-ORIGINAL-URL:https://www.lostnationgolf.com
X-WR-CALDESC:Events for Lost Nation Golf Course
REFRESH-INTERVAL;VALUE=DURATION:PT1H
X-Robots-Tag:noindex
X-PUBLISHED-TTL:PT1H
BEGIN:VTIMEZONE
TZID:UTC
BEGIN:STANDARD
TZOFFSETFROM:+0000
TZOFFSETTO:+0000
TZNAME:UTC
DTSTART:20260101T000000
END:STANDARD
END:VTIMEZONE
BEGIN:VEVENT
DTSTART;TZID=UTC:20270302T150000
DTEND;TZID=UTC:20270302T170000
DTSTAMP:20260421T002930
CREATED:20230719T191655Z
LAST-MODIFIED:20230719T191655Z
UID:10000551-1803999600-1804006800@www.lostnationgolf.com
SUMMARY:Men's League
DESCRIPTION:
URL:https://www.lostnationgolf.com/event/mens-league/2027-03-02/
END:VEVENT
BEGIN:VEVENT
DTSTART;TZID=UTC:20270304T150000
DTEND;TZID=UTC:20270304T170000
DTSTAMP:20260421T002930
CREATED:20230719T191514Z
LAST-MODIFIED:20230719T191514Z
UID:10000190-1804172400-1804179600@www.lostnationgolf.com
SUMMARY:Ladies' Night
DESCRIPTION:
URL:https://www.lostnationgolf.com/event/ladies-night/2027-03-04/
END:VEVENT
BEGIN:VEVENT
DTSTART;TZID=UTC:20270309T150000
DTEND;TZID=UTC:20270309T170000
DTSTAMP:20260421T002930
CREATED:20230719T191655Z
LAST-MODIFIED:20230719T191655Z
UID:10000552-1804604400-1804611600@www.lostnationgolf.com
SUMMARY:Men's League
DESCRIPTION:
URL:https://www.lostnationgolf.com/event/mens-league/2027-03-09/
END:VEVENT
BEGIN:VEVENT
DTSTART;TZID=UTC:20270311T150000
DTEND;TZID=UTC:20270311T170000
DTSTAMP:20260421T002930
CREATED:20230719T191514Z
LAST-MODIFIED:20230719T191514Z
UID:10000191-1804777200-1804784400@www.lostnationgolf.com
SUMMARY:Ladies' Night
DESCRIPTION:
URL:https://www.lostnationgolf.com/event/ladies-night/2027-03-11/
END:VEVENT
BEGIN:VEVENT
DTSTART;TZID=UTC:20270316T150000
DTEND;TZID=UTC:20270316T170000
DTSTAMP:20260421T002930
CREATED:20230719T191655Z
LAST-MODIFIED:20230719T191655Z
UID:10000553-1805209200-1805216400@www.lostnationgolf.com
SUMMARY:Men's League
DESCRIPTION:
URL:https://www.lostnationgolf.com/event/mens-league/2027-03-16/
END:VEVENT
BEGIN:VEVENT
DTSTART;TZID=UTC:20270318T150000
DTEND;TZID=UTC:20270318T170000
DTSTAMP:20260421T002930
CREATED:20230719T191514Z
LAST-MODIFIED:20230719T191514Z
UID:10000192-1805382000-1805389200@www.lostnationgolf.com
SUMMARY:Ladies' Night
DESCRIPTION:
URL:https://www.lostnationgolf.com/event/ladies-night/2027-03-18/
END:VEVENT
BEGIN:VEVENT
DTSTART;TZID=UTC:20270323T150000
DTEND;TZID=UTC:20270323T170000
DTSTAMP:20260421T002930
CREATED:20230719T191655Z
LAST-MODIFIED:20230719T191655Z
UID:10000554-1805814000-1805821200@www.lostnationgolf.com
SUMMARY:Men's League
DESCRIPTION:
URL:https://www.lostnationgolf.com/event/mens-league/2027-03-23/
END:VEVENT
BEGIN:VEVENT
DTSTART;TZID=UTC:20270325T150000
DTEND;TZID=UTC:20270325T170000
DTSTAMP:20260421T002930
CREATED:20230719T191514Z
LAST-MODIFIED:20230719T191514Z
UID:10000193-1805986800-1805994000@www.lostnationgolf.com
SUMMARY:Ladies' Night
DESCRIPTION:
URL:https://www.lostnationgolf.com/event/ladies-night/2027-03-25/
END:VEVENT
BEGIN:VEVENT
DTSTART;VALUE=DATE:20270327
DTEND;VALUE=DATE:20270328
DTSTAMP:20260421T002930
CREATED:20230719T191546Z
LAST-MODIFIED:20230719T191546Z
UID:10000339-1806105600-1806191999@www.lostnationgolf.com
SUMMARY:Golf Tournament
DESCRIPTION:
URL:https://www.lostnationgolf.com/event/golf-tournament/2027-03-27/
END:VEVENT
BEGIN:VEVENT
DTSTART;TZID=UTC:20270330T150000
DTEND;TZID=UTC:20270330T170000
DTSTAMP:20260421T002930
CREATED:20230719T191655Z
LAST-MODIFIED:20230719T191655Z
UID:10000555-1806418800-1806426000@www.lostnationgolf.com
SUMMARY:Men's League
DESCRIPTION:
URL:https://www.lostnationgolf.com/event/mens-league/2027-03-30/
END:VEVENT
END:VCALENDAR