BEGIN:VCALENDAR
VERSION:2.0
PRODID:-//Lost Nation Golf Course - ECPv6.15.18//NONSGML v1.0//EN
CALSCALE:GREGORIAN
METHOD:PUBLISH
X-WR-CALNAME:Lost Nation Golf Course
X-ORIGINAL-URL:https://www.lostnationgolf.com
X-WR-CALDESC:Events for Lost Nation Golf Course
REFRESH-INTERVAL;VALUE=DURATION:PT1H
X-Robots-Tag:noindex
X-PUBLISHED-TTL:PT1H
BEGIN:VTIMEZONE
TZID:UTC
BEGIN:STANDARD
TZOFFSETFROM:+0000
TZOFFSETTO:+0000
TZNAME:UTC
DTSTART:20260101T000000
END:STANDARD
END:VTIMEZONE
BEGIN:VEVENT
DTSTART;TZID=UTC:20270105T150000
DTEND;TZID=UTC:20270105T170000
DTSTAMP:20260420T220355
CREATED:20230719T191655Z
LAST-MODIFIED:20230719T191655Z
UID:10000543-1799161200-1799168400@www.lostnationgolf.com
SUMMARY:Men's League
DESCRIPTION:
URL:https://www.lostnationgolf.com/event/mens-league/2027-01-05/
END:VEVENT
BEGIN:VEVENT
DTSTART;TZID=UTC:20270107T150000
DTEND;TZID=UTC:20270107T170000
DTSTAMP:20260420T220355
CREATED:20230719T191514Z
LAST-MODIFIED:20230719T191514Z
UID:10000182-1799334000-1799341200@www.lostnationgolf.com
SUMMARY:Ladies' Night
DESCRIPTION:
URL:https://www.lostnationgolf.com/event/ladies-night/2027-01-07/
END:VEVENT
BEGIN:VEVENT
DTSTART;TZID=UTC:20270112T150000
DTEND;TZID=UTC:20270112T170000
DTSTAMP:20260420T220355
CREATED:20230719T191655Z
LAST-MODIFIED:20230719T191655Z
UID:10000544-1799766000-1799773200@www.lostnationgolf.com
SUMMARY:Men's League
DESCRIPTION:
URL:https://www.lostnationgolf.com/event/mens-league/2027-01-12/
END:VEVENT
BEGIN:VEVENT
DTSTART;TZID=UTC:20270114T150000
DTEND;TZID=UTC:20270114T170000
DTSTAMP:20260420T220355
CREATED:20230719T191514Z
LAST-MODIFIED:20230719T191514Z
UID:10000183-1799938800-1799946000@www.lostnationgolf.com
SUMMARY:Ladies' Night
DESCRIPTION:
URL:https://www.lostnationgolf.com/event/ladies-night/2027-01-14/
END:VEVENT
BEGIN:VEVENT
DTSTART;TZID=UTC:20270119T150000
DTEND;TZID=UTC:20270119T170000
DTSTAMP:20260420T220355
CREATED:20230719T191655Z
LAST-MODIFIED:20230719T191655Z
UID:10000545-1800370800-1800378000@www.lostnationgolf.com
SUMMARY:Men's League
DESCRIPTION:
URL:https://www.lostnationgolf.com/event/mens-league/2027-01-19/
END:VEVENT
BEGIN:VEVENT
DTSTART;TZID=UTC:20270121T150000
DTEND;TZID=UTC:20270121T170000
DTSTAMP:20260420T220355
CREATED:20230719T191514Z
LAST-MODIFIED:20230719T191514Z
UID:10000184-1800543600-1800550800@www.lostnationgolf.com
SUMMARY:Ladies' Night
DESCRIPTION:
URL:https://www.lostnationgolf.com/event/ladies-night/2027-01-21/
END:VEVENT
BEGIN:VEVENT
DTSTART;VALUE=DATE:20270123
DTEND;VALUE=DATE:20270124
DTSTAMP:20260420T220355
CREATED:20230719T191546Z
LAST-MODIFIED:20230719T191546Z
UID:10000337-1800662400-1800748799@www.lostnationgolf.com
SUMMARY:Golf Tournament
DESCRIPTION:
URL:https://www.lostnationgolf.com/event/golf-tournament/2027-01-23/
END:VEVENT
BEGIN:VEVENT
DTSTART;TZID=UTC:20270126T150000
DTEND;TZID=UTC:20270126T170000
DTSTAMP:20260420T220355
CREATED:20230719T191655Z
LAST-MODIFIED:20230719T191655Z
UID:10000546-1800975600-1800982800@www.lostnationgolf.com
SUMMARY:Men's League
DESCRIPTION:
URL:https://www.lostnationgolf.com/event/mens-league/2027-01-26/
END:VEVENT
BEGIN:VEVENT
DTSTART;TZID=UTC:20270128T150000
DTEND;TZID=UTC:20270128T170000
DTSTAMP:20260420T220355
CREATED:20230719T191514Z
LAST-MODIFIED:20230719T191514Z
UID:10000185-1801148400-1801155600@www.lostnationgolf.com
SUMMARY:Ladies' Night
DESCRIPTION:
URL:https://www.lostnationgolf.com/event/ladies-night/2027-01-28/
END:VEVENT
END:VCALENDAR