BEGIN:VCALENDAR
VERSION:2.0
PRODID:-//Lost Nation Golf Course - ECPv6.15.18//NONSGML v1.0//EN
CALSCALE:GREGORIAN
METHOD:PUBLISH
X-ORIGINAL-URL:https://www.lostnationgolf.com
X-WR-CALDESC:Events for Lost Nation Golf Course
REFRESH-INTERVAL;VALUE=DURATION:PT1H
X-Robots-Tag:noindex
X-PUBLISHED-TTL:PT1H
BEGIN:VTIMEZONE
TZID:UTC
BEGIN:STANDARD
TZOFFSETFROM:+0000
TZOFFSETTO:+0000
TZNAME:UTC
DTSTART:20250101T000000
END:STANDARD
END:VTIMEZONE
BEGIN:VEVENT
DTSTART;TZID=UTC:20261103T150000
DTEND;TZID=UTC:20261103T170000
DTSTAMP:20260420T141309
CREATED:20230719T191655Z
LAST-MODIFIED:20230719T191655Z
UID:10000534-1793718000-1793725200@www.lostnationgolf.com
SUMMARY:Men's League
DESCRIPTION:
URL:https://www.lostnationgolf.com/event/mens-league/2026-11-03/
END:VEVENT
BEGIN:VEVENT
DTSTART;TZID=UTC:20261105T150000
DTEND;TZID=UTC:20261105T170000
DTSTAMP:20260420T141309
CREATED:20230719T191514Z
LAST-MODIFIED:20230719T191514Z
UID:10000173-1793890800-1793898000@www.lostnationgolf.com
SUMMARY:Ladies' Night
DESCRIPTION:
URL:https://www.lostnationgolf.com/event/ladies-night/2026-11-05/
END:VEVENT
BEGIN:VEVENT
DTSTART;TZID=UTC:20261110T150000
DTEND;TZID=UTC:20261110T170000
DTSTAMP:20260420T141309
CREATED:20230719T191655Z
LAST-MODIFIED:20230719T191655Z
UID:10000535-1794322800-1794330000@www.lostnationgolf.com
SUMMARY:Men's League
DESCRIPTION:
URL:https://www.lostnationgolf.com/event/mens-league/2026-11-10/
END:VEVENT
BEGIN:VEVENT
DTSTART;TZID=UTC:20261112T150000
DTEND;TZID=UTC:20261112T170000
DTSTAMP:20260420T141309
CREATED:20230719T191514Z
LAST-MODIFIED:20230719T191514Z
UID:10000174-1794495600-1794502800@www.lostnationgolf.com
SUMMARY:Ladies' Night
DESCRIPTION:
URL:https://www.lostnationgolf.com/event/ladies-night/2026-11-12/
END:VEVENT
BEGIN:VEVENT
DTSTART;TZID=UTC:20261117T150000
DTEND;TZID=UTC:20261117T170000
DTSTAMP:20260420T141309
CREATED:20230719T191655Z
LAST-MODIFIED:20230719T191655Z
UID:10000536-1794927600-1794934800@www.lostnationgolf.com
SUMMARY:Men's League
DESCRIPTION:
URL:https://www.lostnationgolf.com/event/mens-league/2026-11-17/
END:VEVENT
BEGIN:VEVENT
DTSTART;TZID=UTC:20261119T150000
DTEND;TZID=UTC:20261119T170000
DTSTAMP:20260420T141309
CREATED:20230719T191514Z
LAST-MODIFIED:20230719T191514Z
UID:10000175-1795100400-1795107600@www.lostnationgolf.com
SUMMARY:Ladies' Night
DESCRIPTION:
URL:https://www.lostnationgolf.com/event/ladies-night/2026-11-19/
END:VEVENT
BEGIN:VEVENT
DTSTART;TZID=UTC:20261124T150000
DTEND;TZID=UTC:20261124T170000
DTSTAMP:20260420T141309
CREATED:20230719T191655Z
LAST-MODIFIED:20230719T191655Z
UID:10000537-1795532400-1795539600@www.lostnationgolf.com
SUMMARY:Men's League
DESCRIPTION:
URL:https://www.lostnationgolf.com/event/mens-league/2026-11-24/
END:VEVENT
BEGIN:VEVENT
DTSTART;TZID=UTC:20261126T150000
DTEND;TZID=UTC:20261126T170000
DTSTAMP:20260420T141309
CREATED:20230719T191514Z
LAST-MODIFIED:20230719T191514Z
UID:10000176-1795705200-1795712400@www.lostnationgolf.com
SUMMARY:Ladies' Night
DESCRIPTION:
URL:https://www.lostnationgolf.com/event/ladies-night/2026-11-26/
END:VEVENT
BEGIN:VEVENT
DTSTART;VALUE=DATE:20261128
DTEND;VALUE=DATE:20261129
DTSTAMP:20260420T141309
CREATED:20230719T191546Z
LAST-MODIFIED:20230719T191546Z
UID:10000335-1795824000-1795910399@www.lostnationgolf.com
SUMMARY:Golf Tournament
DESCRIPTION:
URL:https://www.lostnationgolf.com/event/golf-tournament/2026-11-28/
END:VEVENT
END:VCALENDAR