BEGIN:VCALENDAR
VERSION:2.0
PRODID:-//Lost Nation Golf Course - ECPv6.15.18//NONSGML v1.0//EN
CALSCALE:GREGORIAN
METHOD:PUBLISH
X-ORIGINAL-URL:https://www.lostnationgolf.com
X-WR-CALDESC:Events for Lost Nation Golf Course
REFRESH-INTERVAL;VALUE=DURATION:PT1H
X-Robots-Tag:noindex
X-PUBLISHED-TTL:PT1H
BEGIN:VTIMEZONE
TZID:UTC
BEGIN:STANDARD
TZOFFSETFROM:+0000
TZOFFSETTO:+0000
TZNAME:UTC
DTSTART:20250101T000000
END:STANDARD
END:VTIMEZONE
BEGIN:VEVENT
DTSTART;TZID=UTC:20261001T150000
DTEND;TZID=UTC:20261001T170000
DTSTAMP:20260420T130424
CREATED:20230719T191514Z
LAST-MODIFIED:20230719T191514Z
UID:10000168-1790866800-1790874000@www.lostnationgolf.com
SUMMARY:Ladies' Night
DESCRIPTION:
URL:https://www.lostnationgolf.com/event/ladies-night/2026-10-01/
END:VEVENT
BEGIN:VEVENT
DTSTART;TZID=UTC:20261006T150000
DTEND;TZID=UTC:20261006T170000
DTSTAMP:20260420T130424
CREATED:20230719T191655Z
LAST-MODIFIED:20230719T191655Z
UID:10000530-1791298800-1791306000@www.lostnationgolf.com
SUMMARY:Men's League
DESCRIPTION:
URL:https://www.lostnationgolf.com/event/mens-league/2026-10-06/
END:VEVENT
BEGIN:VEVENT
DTSTART;TZID=UTC:20261008T150000
DTEND;TZID=UTC:20261008T170000
DTSTAMP:20260420T130424
CREATED:20230719T191514Z
LAST-MODIFIED:20230719T191514Z
UID:10000169-1791471600-1791478800@www.lostnationgolf.com
SUMMARY:Ladies' Night
DESCRIPTION:
URL:https://www.lostnationgolf.com/event/ladies-night/2026-10-08/
END:VEVENT
BEGIN:VEVENT
DTSTART;TZID=UTC:20261013T150000
DTEND;TZID=UTC:20261013T170000
DTSTAMP:20260420T130424
CREATED:20230719T191655Z
LAST-MODIFIED:20230719T191655Z
UID:10000531-1791903600-1791910800@www.lostnationgolf.com
SUMMARY:Men's League
DESCRIPTION:
URL:https://www.lostnationgolf.com/event/mens-league/2026-10-13/
END:VEVENT
BEGIN:VEVENT
DTSTART;TZID=UTC:20261015T150000
DTEND;TZID=UTC:20261015T170000
DTSTAMP:20260420T130424
CREATED:20230719T191514Z
LAST-MODIFIED:20230719T191514Z
UID:10000170-1792076400-1792083600@www.lostnationgolf.com
SUMMARY:Ladies' Night
DESCRIPTION:
URL:https://www.lostnationgolf.com/event/ladies-night/2026-10-15/
END:VEVENT
BEGIN:VEVENT
DTSTART;TZID=UTC:20261020T150000
DTEND;TZID=UTC:20261020T170000
DTSTAMP:20260420T130424
CREATED:20230719T191655Z
LAST-MODIFIED:20230719T191655Z
UID:10000532-1792508400-1792515600@www.lostnationgolf.com
SUMMARY:Men's League
DESCRIPTION:
URL:https://www.lostnationgolf.com/event/mens-league/2026-10-20/
END:VEVENT
BEGIN:VEVENT
DTSTART;TZID=UTC:20261022T150000
DTEND;TZID=UTC:20261022T170000
DTSTAMP:20260420T130424
CREATED:20230719T191514Z
LAST-MODIFIED:20230719T191514Z
UID:10000171-1792681200-1792688400@www.lostnationgolf.com
SUMMARY:Ladies' Night
DESCRIPTION:
URL:https://www.lostnationgolf.com/event/ladies-night/2026-10-22/
END:VEVENT
BEGIN:VEVENT
DTSTART;VALUE=DATE:20261024
DTEND;VALUE=DATE:20261025
DTSTAMP:20260420T130424
CREATED:20230719T191546Z
LAST-MODIFIED:20230719T191546Z
UID:10000334-1792800000-1792886399@www.lostnationgolf.com
SUMMARY:Golf Tournament
DESCRIPTION:
URL:https://www.lostnationgolf.com/event/golf-tournament/2026-10-24/
END:VEVENT
BEGIN:VEVENT
DTSTART;TZID=UTC:20261027T150000
DTEND;TZID=UTC:20261027T170000
DTSTAMP:20260420T130424
CREATED:20230719T191655Z
LAST-MODIFIED:20230719T191655Z
UID:10000533-1793113200-1793120400@www.lostnationgolf.com
SUMMARY:Men's League
DESCRIPTION:
URL:https://www.lostnationgolf.com/event/mens-league/2026-10-27/
END:VEVENT
BEGIN:VEVENT
DTSTART;TZID=UTC:20261029T150000
DTEND;TZID=UTC:20261029T170000
DTSTAMP:20260420T130424
CREATED:20230719T191514Z
LAST-MODIFIED:20230719T191514Z
UID:10000172-1793286000-1793293200@www.lostnationgolf.com
SUMMARY:Ladies' Night
DESCRIPTION:
URL:https://www.lostnationgolf.com/event/ladies-night/2026-10-29/
END:VEVENT
END:VCALENDAR