BEGIN:VCALENDAR
VERSION:2.0
PRODID:-//Lost Nation Golf Course - ECPv6.15.18//NONSGML v1.0//EN
CALSCALE:GREGORIAN
METHOD:PUBLISH
X-ORIGINAL-URL:https://www.lostnationgolf.com
X-WR-CALDESC:Events for Lost Nation Golf Course
REFRESH-INTERVAL;VALUE=DURATION:PT1H
X-Robots-Tag:noindex
X-PUBLISHED-TTL:PT1H
BEGIN:VTIMEZONE
TZID:UTC
BEGIN:STANDARD
TZOFFSETFROM:+0000
TZOFFSETTO:+0000
TZNAME:UTC
DTSTART:20250101T000000
END:STANDARD
END:VTIMEZONE
BEGIN:VEVENT
DTSTART;TZID=UTC:20260602T150000
DTEND;TZID=UTC:20260602T170000
DTSTAMP:20260420T075011
CREATED:20230719T191655Z
LAST-MODIFIED:20230719T191655Z
UID:10000512-1780412400-1780419600@www.lostnationgolf.com
SUMMARY:Men's League
DESCRIPTION:
URL:https://www.lostnationgolf.com/event/mens-league/2026-06-02/
END:VEVENT
BEGIN:VEVENT
DTSTART;TZID=UTC:20260604T150000
DTEND;TZID=UTC:20260604T170000
DTSTAMP:20260420T075011
CREATED:20230719T191514Z
LAST-MODIFIED:20230719T191514Z
UID:10000151-1780585200-1780592400@www.lostnationgolf.com
SUMMARY:Ladies' Night
DESCRIPTION:
URL:https://www.lostnationgolf.com/event/ladies-night/2026-06-04/
END:VEVENT
BEGIN:VEVENT
DTSTART;TZID=UTC:20260609T150000
DTEND;TZID=UTC:20260609T170000
DTSTAMP:20260420T075011
CREATED:20230719T191655Z
LAST-MODIFIED:20230719T191655Z
UID:10000513-1781017200-1781024400@www.lostnationgolf.com
SUMMARY:Men's League
DESCRIPTION:
URL:https://www.lostnationgolf.com/event/mens-league/2026-06-09/
END:VEVENT
BEGIN:VEVENT
DTSTART;TZID=UTC:20260611T150000
DTEND;TZID=UTC:20260611T170000
DTSTAMP:20260420T075011
CREATED:20230719T191514Z
LAST-MODIFIED:20230719T191514Z
UID:10000152-1781190000-1781197200@www.lostnationgolf.com
SUMMARY:Ladies' Night
DESCRIPTION:
URL:https://www.lostnationgolf.com/event/ladies-night/2026-06-11/
END:VEVENT
BEGIN:VEVENT
DTSTART;TZID=UTC:20260616T150000
DTEND;TZID=UTC:20260616T170000
DTSTAMP:20260420T075011
CREATED:20230719T191655Z
LAST-MODIFIED:20230719T191655Z
UID:10000514-1781622000-1781629200@www.lostnationgolf.com
SUMMARY:Men's League
DESCRIPTION:
URL:https://www.lostnationgolf.com/event/mens-league/2026-06-16/
END:VEVENT
BEGIN:VEVENT
DTSTART;TZID=UTC:20260618T150000
DTEND;TZID=UTC:20260618T170000
DTSTAMP:20260420T075011
CREATED:20230719T191514Z
LAST-MODIFIED:20230719T191514Z
UID:10000153-1781794800-1781802000@www.lostnationgolf.com
SUMMARY:Ladies' Night
DESCRIPTION:
URL:https://www.lostnationgolf.com/event/ladies-night/2026-06-18/
END:VEVENT
BEGIN:VEVENT
DTSTART;TZID=UTC:20260623T150000
DTEND;TZID=UTC:20260623T170000
DTSTAMP:20260420T075011
CREATED:20230719T191655Z
LAST-MODIFIED:20230719T191655Z
UID:10000515-1782226800-1782234000@www.lostnationgolf.com
SUMMARY:Men's League
DESCRIPTION:
URL:https://www.lostnationgolf.com/event/mens-league/2026-06-23/
END:VEVENT
BEGIN:VEVENT
DTSTART;TZID=UTC:20260625T150000
DTEND;TZID=UTC:20260625T170000
DTSTAMP:20260420T075011
CREATED:20230719T191514Z
LAST-MODIFIED:20230719T191514Z
UID:10000154-1782399600-1782406800@www.lostnationgolf.com
SUMMARY:Ladies' Night
DESCRIPTION:
URL:https://www.lostnationgolf.com/event/ladies-night/2026-06-25/
END:VEVENT
BEGIN:VEVENT
DTSTART;VALUE=DATE:20260627
DTEND;VALUE=DATE:20260628
DTSTAMP:20260420T075011
CREATED:20230719T191546Z
LAST-MODIFIED:20230719T191546Z
UID:10000330-1782518400-1782604799@www.lostnationgolf.com
SUMMARY:Golf Tournament
DESCRIPTION:
URL:https://www.lostnationgolf.com/event/golf-tournament/2026-06-27/
END:VEVENT
BEGIN:VEVENT
DTSTART;TZID=UTC:20260630T150000
DTEND;TZID=UTC:20260630T170000
DTSTAMP:20260420T075011
CREATED:20230719T191655Z
LAST-MODIFIED:20230719T191655Z
UID:10000516-1782831600-1782838800@www.lostnationgolf.com
SUMMARY:Men's League
DESCRIPTION:
URL:https://www.lostnationgolf.com/event/mens-league/2026-06-30/
END:VEVENT
END:VCALENDAR