BEGIN:VCALENDAR
VERSION:2.0
PRODID:-//Lost Nation Golf Course - ECPv6.15.18//NONSGML v1.0//EN
CALSCALE:GREGORIAN
METHOD:PUBLISH
X-ORIGINAL-URL:https://www.lostnationgolf.com
X-WR-CALDESC:Events for Lost Nation Golf Course
REFRESH-INTERVAL;VALUE=DURATION:PT1H
X-Robots-Tag:noindex
X-PUBLISHED-TTL:PT1H
BEGIN:VTIMEZONE
TZID:UTC
BEGIN:STANDARD
TZOFFSETFROM:+0000
TZOFFSETTO:+0000
TZNAME:UTC
DTSTART:20250101T000000
END:STANDARD
END:VTIMEZONE
BEGIN:VEVENT
DTSTART;TZID=UTC:20260303T150000
DTEND;TZID=UTC:20260303T170000
DTSTAMP:20260420T051518
CREATED:20230719T191655Z
LAST-MODIFIED:20230719T191655Z
UID:10000499-1772550000-1772557200@www.lostnationgolf.com
SUMMARY:Men's League
DESCRIPTION:
URL:https://www.lostnationgolf.com/event/mens-league/2026-03-03/
END:VEVENT
BEGIN:VEVENT
DTSTART;TZID=UTC:20260305T150000
DTEND;TZID=UTC:20260305T170000
DTSTAMP:20260420T051518
CREATED:20230719T191514Z
LAST-MODIFIED:20230719T191514Z
UID:10000138-1772722800-1772730000@www.lostnationgolf.com
SUMMARY:Ladies' Night
DESCRIPTION:
URL:https://www.lostnationgolf.com/event/ladies-night/2026-03-05/
END:VEVENT
BEGIN:VEVENT
DTSTART;TZID=UTC:20260310T150000
DTEND;TZID=UTC:20260310T170000
DTSTAMP:20260420T051518
CREATED:20230719T191655Z
LAST-MODIFIED:20230719T191655Z
UID:10000500-1773154800-1773162000@www.lostnationgolf.com
SUMMARY:Men's League
DESCRIPTION:
URL:https://www.lostnationgolf.com/event/mens-league/2026-03-10/
END:VEVENT
BEGIN:VEVENT
DTSTART;TZID=UTC:20260312T150000
DTEND;TZID=UTC:20260312T170000
DTSTAMP:20260420T051518
CREATED:20230719T191514Z
LAST-MODIFIED:20230719T191514Z
UID:10000139-1773327600-1773334800@www.lostnationgolf.com
SUMMARY:Ladies' Night
DESCRIPTION:
URL:https://www.lostnationgolf.com/event/ladies-night/2026-03-12/
END:VEVENT
BEGIN:VEVENT
DTSTART;TZID=UTC:20260317T150000
DTEND;TZID=UTC:20260317T170000
DTSTAMP:20260420T051518
CREATED:20230719T191655Z
LAST-MODIFIED:20230719T191655Z
UID:10000501-1773759600-1773766800@www.lostnationgolf.com
SUMMARY:Men's League
DESCRIPTION:
URL:https://www.lostnationgolf.com/event/mens-league/2026-03-17/
END:VEVENT
BEGIN:VEVENT
DTSTART;TZID=UTC:20260319T150000
DTEND;TZID=UTC:20260319T170000
DTSTAMP:20260420T051518
CREATED:20230719T191514Z
LAST-MODIFIED:20230719T191514Z
UID:10000140-1773932400-1773939600@www.lostnationgolf.com
SUMMARY:Ladies' Night
DESCRIPTION:
URL:https://www.lostnationgolf.com/event/ladies-night/2026-03-19/
END:VEVENT
BEGIN:VEVENT
DTSTART;TZID=UTC:20260324T150000
DTEND;TZID=UTC:20260324T170000
DTSTAMP:20260420T051518
CREATED:20230719T191655Z
LAST-MODIFIED:20230719T191655Z
UID:10000502-1774364400-1774371600@www.lostnationgolf.com
SUMMARY:Men's League
DESCRIPTION:
URL:https://www.lostnationgolf.com/event/mens-league/2026-03-24/
END:VEVENT
BEGIN:VEVENT
DTSTART;TZID=UTC:20260326T150000
DTEND;TZID=UTC:20260326T170000
DTSTAMP:20260420T051518
CREATED:20230719T191514Z
LAST-MODIFIED:20230719T191514Z
UID:10000141-1774537200-1774544400@www.lostnationgolf.com
SUMMARY:Ladies' Night
DESCRIPTION:
URL:https://www.lostnationgolf.com/event/ladies-night/2026-03-26/
END:VEVENT
BEGIN:VEVENT
DTSTART;VALUE=DATE:20260328
DTEND;VALUE=DATE:20260329
DTSTAMP:20260420T051518
CREATED:20230719T191546Z
LAST-MODIFIED:20230719T191546Z
UID:10000327-1774656000-1774742399@www.lostnationgolf.com
SUMMARY:Golf Tournament
DESCRIPTION:
URL:https://www.lostnationgolf.com/event/golf-tournament/2026-03-28/
END:VEVENT
BEGIN:VEVENT
DTSTART;TZID=UTC:20260331T150000
DTEND;TZID=UTC:20260331T170000
DTSTAMP:20260420T051518
CREATED:20230719T191655Z
LAST-MODIFIED:20230719T191655Z
UID:10000503-1774969200-1774976400@www.lostnationgolf.com
SUMMARY:Men's League
DESCRIPTION:
URL:https://www.lostnationgolf.com/event/mens-league/2026-03-31/
END:VEVENT
END:VCALENDAR