BEGIN:VCALENDAR
VERSION:2.0
PRODID:-//Lost Nation Golf Course - ECPv6.15.18//NONSGML v1.0//EN
CALSCALE:GREGORIAN
METHOD:PUBLISH
X-ORIGINAL-URL:https://www.lostnationgolf.com
X-WR-CALDESC:Events for Lost Nation Golf Course
REFRESH-INTERVAL;VALUE=DURATION:PT1H
X-Robots-Tag:noindex
X-PUBLISHED-TTL:PT1H
BEGIN:VTIMEZONE
TZID:UTC
BEGIN:STANDARD
TZOFFSETFROM:+0000
TZOFFSETTO:+0000
TZNAME:UTC
DTSTART:20240101T000000
END:STANDARD
END:VTIMEZONE
BEGIN:VEVENT
DTSTART;TZID=UTC:20251202T150000
DTEND;TZID=UTC:20251202T170000
DTSTAMP:20260420T091220
CREATED:20230719T191655Z
LAST-MODIFIED:20230719T191655Z
UID:10000486-1764687600-1764694800@www.lostnationgolf.com
SUMMARY:Men's League
DESCRIPTION:
URL:https://www.lostnationgolf.com/event/mens-league/2025-12-02/
END:VEVENT
BEGIN:VEVENT
DTSTART;TZID=UTC:20251204T150000
DTEND;TZID=UTC:20251204T170000
DTSTAMP:20260420T091220
CREATED:20230719T191514Z
LAST-MODIFIED:20230719T191514Z
UID:10000125-1764860400-1764867600@www.lostnationgolf.com
SUMMARY:Ladies' Night
DESCRIPTION:
URL:https://www.lostnationgolf.com/event/ladies-night/2025-12-04/
END:VEVENT
BEGIN:VEVENT
DTSTART;TZID=UTC:20251209T150000
DTEND;TZID=UTC:20251209T170000
DTSTAMP:20260420T091220
CREATED:20230719T191655Z
LAST-MODIFIED:20230719T191655Z
UID:10000487-1765292400-1765299600@www.lostnationgolf.com
SUMMARY:Men's League
DESCRIPTION:
URL:https://www.lostnationgolf.com/event/mens-league/2025-12-09/
END:VEVENT
BEGIN:VEVENT
DTSTART;TZID=UTC:20251211T150000
DTEND;TZID=UTC:20251211T170000
DTSTAMP:20260420T091220
CREATED:20230719T191514Z
LAST-MODIFIED:20230719T191514Z
UID:10000126-1765465200-1765472400@www.lostnationgolf.com
SUMMARY:Ladies' Night
DESCRIPTION:
URL:https://www.lostnationgolf.com/event/ladies-night/2025-12-11/
END:VEVENT
BEGIN:VEVENT
DTSTART;TZID=UTC:20251216T150000
DTEND;TZID=UTC:20251216T170000
DTSTAMP:20260420T091220
CREATED:20230719T191655Z
LAST-MODIFIED:20230719T191655Z
UID:10000488-1765897200-1765904400@www.lostnationgolf.com
SUMMARY:Men's League
DESCRIPTION:
URL:https://www.lostnationgolf.com/event/mens-league/2025-12-16/
END:VEVENT
BEGIN:VEVENT
DTSTART;TZID=UTC:20251218T150000
DTEND;TZID=UTC:20251218T170000
DTSTAMP:20260420T091220
CREATED:20230719T191514Z
LAST-MODIFIED:20230719T191514Z
UID:10000127-1766070000-1766077200@www.lostnationgolf.com
SUMMARY:Ladies' Night
DESCRIPTION:
URL:https://www.lostnationgolf.com/event/ladies-night/2025-12-18/
END:VEVENT
BEGIN:VEVENT
DTSTART;TZID=UTC:20251223T150000
DTEND;TZID=UTC:20251223T170000
DTSTAMP:20260420T091220
CREATED:20230719T191655Z
LAST-MODIFIED:20230719T191655Z
UID:10000489-1766502000-1766509200@www.lostnationgolf.com
SUMMARY:Men's League
DESCRIPTION:
URL:https://www.lostnationgolf.com/event/mens-league/2025-12-23/
END:VEVENT
BEGIN:VEVENT
DTSTART;TZID=UTC:20251225T150000
DTEND;TZID=UTC:20251225T170000
DTSTAMP:20260420T091220
CREATED:20230719T191514Z
LAST-MODIFIED:20230719T191514Z
UID:10000128-1766674800-1766682000@www.lostnationgolf.com
SUMMARY:Ladies' Night
DESCRIPTION:
URL:https://www.lostnationgolf.com/event/ladies-night/2025-12-25/
END:VEVENT
BEGIN:VEVENT
DTSTART;VALUE=DATE:20251227
DTEND;VALUE=DATE:20251228
DTSTAMP:20260420T091220
CREATED:20230719T191546Z
LAST-MODIFIED:20230719T191546Z
UID:10000324-1766793600-1766879999@www.lostnationgolf.com
SUMMARY:Golf Tournament
DESCRIPTION:
URL:https://www.lostnationgolf.com/event/golf-tournament/2025-12-27/
END:VEVENT
BEGIN:VEVENT
DTSTART;TZID=UTC:20251230T150000
DTEND;TZID=UTC:20251230T170000
DTSTAMP:20260420T091220
CREATED:20230719T191655Z
LAST-MODIFIED:20230719T191655Z
UID:10000490-1767106800-1767114000@www.lostnationgolf.com
SUMMARY:Men's League
DESCRIPTION:
URL:https://www.lostnationgolf.com/event/mens-league/2025-12-30/
END:VEVENT
END:VCALENDAR