BEGIN:VCALENDAR
VERSION:2.0
PRODID:-//Lost Nation Golf Course - ECPv6.15.18//NONSGML v1.0//EN
CALSCALE:GREGORIAN
METHOD:PUBLISH
X-ORIGINAL-URL:https://www.lostnationgolf.com
X-WR-CALDESC:Events for Lost Nation Golf Course
REFRESH-INTERVAL;VALUE=DURATION:PT1H
X-Robots-Tag:noindex
X-PUBLISHED-TTL:PT1H
BEGIN:VTIMEZONE
TZID:UTC
BEGIN:STANDARD
TZOFFSETFROM:+0000
TZOFFSETTO:+0000
TZNAME:UTC
DTSTART:20230101T000000
END:STANDARD
END:VTIMEZONE
BEGIN:VEVENT
DTSTART;TZID=UTC:20241203T150000
DTEND;TZID=UTC:20241203T170000
DTSTAMP:20260425T140450
CREATED:20230719T191655Z
LAST-MODIFIED:20230719T191655Z
UID:10000434-1733238000-1733245200@www.lostnationgolf.com
SUMMARY:Men's League
DESCRIPTION:
URL:https://www.lostnationgolf.com/event/mens-league/2024-12-03/
END:VEVENT
BEGIN:VEVENT
DTSTART;TZID=UTC:20241205T150000
DTEND;TZID=UTC:20241205T170000
DTSTAMP:20260425T140450
CREATED:20230719T191514Z
LAST-MODIFIED:20230719T191514Z
UID:10000073-1733410800-1733418000@www.lostnationgolf.com
SUMMARY:Ladies' Night
DESCRIPTION:
URL:https://www.lostnationgolf.com/event/ladies-night/2024-12-05/
END:VEVENT
BEGIN:VEVENT
DTSTART;TZID=UTC:20241210T150000
DTEND;TZID=UTC:20241210T170000
DTSTAMP:20260425T140450
CREATED:20230719T191655Z
LAST-MODIFIED:20230719T191655Z
UID:10000435-1733842800-1733850000@www.lostnationgolf.com
SUMMARY:Men's League
DESCRIPTION:
URL:https://www.lostnationgolf.com/event/mens-league/2024-12-10/
END:VEVENT
BEGIN:VEVENT
DTSTART;TZID=UTC:20241212T150000
DTEND;TZID=UTC:20241212T170000
DTSTAMP:20260425T140450
CREATED:20230719T191514Z
LAST-MODIFIED:20230719T191514Z
UID:10000074-1734015600-1734022800@www.lostnationgolf.com
SUMMARY:Ladies' Night
DESCRIPTION:
URL:https://www.lostnationgolf.com/event/ladies-night/2024-12-12/
END:VEVENT
BEGIN:VEVENT
DTSTART;TZID=UTC:20241217T150000
DTEND;TZID=UTC:20241217T170000
DTSTAMP:20260425T140450
CREATED:20230719T191655Z
LAST-MODIFIED:20230719T191655Z
UID:10000436-1734447600-1734454800@www.lostnationgolf.com
SUMMARY:Men's League
DESCRIPTION:
URL:https://www.lostnationgolf.com/event/mens-league/2024-12-17/
END:VEVENT
BEGIN:VEVENT
DTSTART;TZID=UTC:20241219T150000
DTEND;TZID=UTC:20241219T170000
DTSTAMP:20260425T140450
CREATED:20230719T191514Z
LAST-MODIFIED:20230719T191514Z
UID:10000075-1734620400-1734627600@www.lostnationgolf.com
SUMMARY:Ladies' Night
DESCRIPTION:
URL:https://www.lostnationgolf.com/event/ladies-night/2024-12-19/
END:VEVENT
BEGIN:VEVENT
DTSTART;TZID=UTC:20241224T150000
DTEND;TZID=UTC:20241224T170000
DTSTAMP:20260425T140450
CREATED:20230719T191655Z
LAST-MODIFIED:20230719T191655Z
UID:10000437-1735052400-1735059600@www.lostnationgolf.com
SUMMARY:Men's League
DESCRIPTION:
URL:https://www.lostnationgolf.com/event/mens-league/2024-12-24/
END:VEVENT
BEGIN:VEVENT
DTSTART;TZID=UTC:20241226T150000
DTEND;TZID=UTC:20241226T170000
DTSTAMP:20260425T140450
CREATED:20230719T191514Z
LAST-MODIFIED:20230719T191514Z
UID:10000076-1735225200-1735232400@www.lostnationgolf.com
SUMMARY:Ladies' Night
DESCRIPTION:
URL:https://www.lostnationgolf.com/event/ladies-night/2024-12-26/
END:VEVENT
BEGIN:VEVENT
DTSTART;VALUE=DATE:20241228
DTEND;VALUE=DATE:20241229
DTSTAMP:20260425T140450
CREATED:20230719T191546Z
LAST-MODIFIED:20230719T191546Z
UID:10000312-1735344000-1735430399@www.lostnationgolf.com
SUMMARY:Golf Tournament
DESCRIPTION:
URL:https://www.lostnationgolf.com/event/golf-tournament/2024-12-28/
END:VEVENT
BEGIN:VEVENT
DTSTART;TZID=UTC:20241231T150000
DTEND;TZID=UTC:20241231T170000
DTSTAMP:20260425T140451
CREATED:20230719T191655Z
LAST-MODIFIED:20230719T191655Z
UID:10000438-1735657200-1735664400@www.lostnationgolf.com
SUMMARY:Men's League
DESCRIPTION:
URL:https://www.lostnationgolf.com/event/mens-league/2024-12-31/
END:VEVENT
END:VCALENDAR