BEGIN:VCALENDAR
VERSION:2.0
PRODID:-//Lost Nation Golf Course - ECPv6.15.18//NONSGML v1.0//EN
CALSCALE:GREGORIAN
METHOD:PUBLISH
X-ORIGINAL-URL:https://www.lostnationgolf.com
X-WR-CALDESC:Events for Lost Nation Golf Course
REFRESH-INTERVAL;VALUE=DURATION:PT1H
X-Robots-Tag:noindex
X-PUBLISHED-TTL:PT1H
BEGIN:VTIMEZONE
TZID:UTC
BEGIN:STANDARD
TZOFFSETFROM:+0000
TZOFFSETTO:+0000
TZNAME:UTC
DTSTART:20230101T000000
END:STANDARD
END:VTIMEZONE
BEGIN:VEVENT
DTSTART;TZID=UTC:20240903T150000
DTEND;TZID=UTC:20240903T170000
DTSTAMP:20260425T205353
CREATED:20230719T191655Z
LAST-MODIFIED:20230719T191655Z
UID:10000421-1725375600-1725382800@www.lostnationgolf.com
SUMMARY:Men's League
DESCRIPTION:
URL:https://www.lostnationgolf.com/event/mens-league/2024-09-03/
END:VEVENT
BEGIN:VEVENT
DTSTART;TZID=UTC:20240905T150000
DTEND;TZID=UTC:20240905T170000
DTSTAMP:20260425T205353
CREATED:20230719T191514Z
LAST-MODIFIED:20230719T191514Z
UID:10000060-1725548400-1725555600@www.lostnationgolf.com
SUMMARY:Ladies' Night
DESCRIPTION:
URL:https://www.lostnationgolf.com/event/ladies-night/2024-09-05/
END:VEVENT
BEGIN:VEVENT
DTSTART;TZID=UTC:20240910T150000
DTEND;TZID=UTC:20240910T170000
DTSTAMP:20260425T205353
CREATED:20230719T191655Z
LAST-MODIFIED:20230719T191655Z
UID:10000422-1725980400-1725987600@www.lostnationgolf.com
SUMMARY:Men's League
DESCRIPTION:
URL:https://www.lostnationgolf.com/event/mens-league/2024-09-10/
END:VEVENT
BEGIN:VEVENT
DTSTART;TZID=UTC:20240912T150000
DTEND;TZID=UTC:20240912T170000
DTSTAMP:20260425T205353
CREATED:20230719T191514Z
LAST-MODIFIED:20230719T191514Z
UID:10000061-1726153200-1726160400@www.lostnationgolf.com
SUMMARY:Ladies' Night
DESCRIPTION:
URL:https://www.lostnationgolf.com/event/ladies-night/2024-09-12/
END:VEVENT
BEGIN:VEVENT
DTSTART;TZID=UTC:20240917T150000
DTEND;TZID=UTC:20240917T170000
DTSTAMP:20260425T205353
CREATED:20230719T191655Z
LAST-MODIFIED:20230719T191655Z
UID:10000423-1726585200-1726592400@www.lostnationgolf.com
SUMMARY:Men's League
DESCRIPTION:
URL:https://www.lostnationgolf.com/event/mens-league/2024-09-17/
END:VEVENT
BEGIN:VEVENT
DTSTART;TZID=UTC:20240919T150000
DTEND;TZID=UTC:20240919T170000
DTSTAMP:20260425T205353
CREATED:20230719T191514Z
LAST-MODIFIED:20230719T191514Z
UID:10000062-1726758000-1726765200@www.lostnationgolf.com
SUMMARY:Ladies' Night
DESCRIPTION:
URL:https://www.lostnationgolf.com/event/ladies-night/2024-09-19/
END:VEVENT
BEGIN:VEVENT
DTSTART;TZID=UTC:20240924T150000
DTEND;TZID=UTC:20240924T170000
DTSTAMP:20260425T205353
CREATED:20230719T191655Z
LAST-MODIFIED:20230719T191655Z
UID:10000424-1727190000-1727197200@www.lostnationgolf.com
SUMMARY:Men's League
DESCRIPTION:
URL:https://www.lostnationgolf.com/event/mens-league/2024-09-24/
END:VEVENT
BEGIN:VEVENT
DTSTART;TZID=UTC:20240926T150000
DTEND;TZID=UTC:20240926T170000
DTSTAMP:20260425T205353
CREATED:20230719T191514Z
LAST-MODIFIED:20230719T191514Z
UID:10000063-1727362800-1727370000@www.lostnationgolf.com
SUMMARY:Ladies' Night
DESCRIPTION:
URL:https://www.lostnationgolf.com/event/ladies-night/2024-09-26/
END:VEVENT
BEGIN:VEVENT
DTSTART;VALUE=DATE:20240928
DTEND;VALUE=DATE:20240929
DTSTAMP:20260425T205353
CREATED:20230719T191546Z
LAST-MODIFIED:20230719T191546Z
UID:10000309-1727481600-1727567999@www.lostnationgolf.com
SUMMARY:Golf Tournament
DESCRIPTION:
URL:https://www.lostnationgolf.com/event/golf-tournament/2024-09-28/
END:VEVENT
END:VCALENDAR