BEGIN:VCALENDAR
VERSION:2.0
PRODID:-//Lost Nation Golf Course - ECPv6.15.18//NONSGML v1.0//EN
CALSCALE:GREGORIAN
METHOD:PUBLISH
X-WR-CALNAME:Lost Nation Golf Course
X-ORIGINAL-URL:https://www.lostnationgolf.com
X-WR-CALDESC:Events for Lost Nation Golf Course
REFRESH-INTERVAL;VALUE=DURATION:PT1H
X-Robots-Tag:noindex
X-PUBLISHED-TTL:PT1H
BEGIN:VTIMEZONE
TZID:UTC
BEGIN:STANDARD
TZOFFSETFROM:+0000
TZOFFSETTO:+0000
TZNAME:UTC
DTSTART:20230101T000000
END:STANDARD
END:VTIMEZONE
BEGIN:VEVENT
DTSTART;TZID=UTC:20240702T150000
DTEND;TZID=UTC:20240702T170000
DTSTAMP:20260425T231902
CREATED:20230719T191655Z
LAST-MODIFIED:20230719T191655Z
UID:10000412-1719932400-1719939600@www.lostnationgolf.com
SUMMARY:Men's League
DESCRIPTION:
URL:https://www.lostnationgolf.com/event/mens-league/2024-07-02/
END:VEVENT
BEGIN:VEVENT
DTSTART;TZID=UTC:20240704T150000
DTEND;TZID=UTC:20240704T170000
DTSTAMP:20260425T231902
CREATED:20230719T191514Z
LAST-MODIFIED:20230719T191514Z
UID:10000051-1720105200-1720112400@www.lostnationgolf.com
SUMMARY:Ladies' Night
DESCRIPTION:
URL:https://www.lostnationgolf.com/event/ladies-night/2024-07-04/
END:VEVENT
BEGIN:VEVENT
DTSTART;TZID=UTC:20240709T150000
DTEND;TZID=UTC:20240709T170000
DTSTAMP:20260425T231902
CREATED:20230719T191655Z
LAST-MODIFIED:20230719T191655Z
UID:10000413-1720537200-1720544400@www.lostnationgolf.com
SUMMARY:Men's League
DESCRIPTION:
URL:https://www.lostnationgolf.com/event/mens-league/2024-07-09/
END:VEVENT
BEGIN:VEVENT
DTSTART;TZID=UTC:20240711T150000
DTEND;TZID=UTC:20240711T170000
DTSTAMP:20260425T231902
CREATED:20230719T191514Z
LAST-MODIFIED:20230719T191514Z
UID:10000052-1720710000-1720717200@www.lostnationgolf.com
SUMMARY:Ladies' Night
DESCRIPTION:
URL:https://www.lostnationgolf.com/event/ladies-night/2024-07-11/
END:VEVENT
BEGIN:VEVENT
DTSTART;TZID=UTC:20240716T150000
DTEND;TZID=UTC:20240716T170000
DTSTAMP:20260425T231902
CREATED:20230719T191655Z
LAST-MODIFIED:20230719T191655Z
UID:10000414-1721142000-1721149200@www.lostnationgolf.com
SUMMARY:Men's League
DESCRIPTION:
URL:https://www.lostnationgolf.com/event/mens-league/2024-07-16/
END:VEVENT
BEGIN:VEVENT
DTSTART;TZID=UTC:20240718T150000
DTEND;TZID=UTC:20240718T170000
DTSTAMP:20260425T231902
CREATED:20230719T191514Z
LAST-MODIFIED:20230719T191514Z
UID:10000053-1721314800-1721322000@www.lostnationgolf.com
SUMMARY:Ladies' Night
DESCRIPTION:
URL:https://www.lostnationgolf.com/event/ladies-night/2024-07-18/
END:VEVENT
BEGIN:VEVENT
DTSTART;TZID=UTC:20240723T150000
DTEND;TZID=UTC:20240723T170000
DTSTAMP:20260425T231902
CREATED:20230719T191655Z
LAST-MODIFIED:20230719T191655Z
UID:10000415-1721746800-1721754000@www.lostnationgolf.com
SUMMARY:Men's League
DESCRIPTION:
URL:https://www.lostnationgolf.com/event/mens-league/2024-07-23/
END:VEVENT
BEGIN:VEVENT
DTSTART;TZID=UTC:20240725T150000
DTEND;TZID=UTC:20240725T170000
DTSTAMP:20260425T231902
CREATED:20230719T191514Z
LAST-MODIFIED:20230719T191514Z
UID:10000054-1721919600-1721926800@www.lostnationgolf.com
SUMMARY:Ladies' Night
DESCRIPTION:
URL:https://www.lostnationgolf.com/event/ladies-night/2024-07-25/
END:VEVENT
BEGIN:VEVENT
DTSTART;VALUE=DATE:20240727
DTEND;VALUE=DATE:20240728
DTSTAMP:20260425T231902
CREATED:20230719T191546Z
LAST-MODIFIED:20230719T191546Z
UID:10000307-1722038400-1722124799@www.lostnationgolf.com
SUMMARY:Golf Tournament
DESCRIPTION:
URL:https://www.lostnationgolf.com/event/golf-tournament/2024-07-27/
END:VEVENT
BEGIN:VEVENT
DTSTART;TZID=UTC:20240730T150000
DTEND;TZID=UTC:20240730T170000
DTSTAMP:20260425T231902
CREATED:20230719T191655Z
LAST-MODIFIED:20230719T191655Z
UID:10000416-1722351600-1722358800@www.lostnationgolf.com
SUMMARY:Men's League
DESCRIPTION:
URL:https://www.lostnationgolf.com/event/mens-league/2024-07-30/
END:VEVENT
END:VCALENDAR