BEGIN:VCALENDAR
VERSION:2.0
PRODID:-//Lost Nation Golf Course - ECPv6.15.18//NONSGML v1.0//EN
CALSCALE:GREGORIAN
METHOD:PUBLISH
X-ORIGINAL-URL:https://www.lostnationgolf.com
X-WR-CALDESC:Events for Lost Nation Golf Course
REFRESH-INTERVAL;VALUE=DURATION:PT1H
X-Robots-Tag:noindex
X-PUBLISHED-TTL:PT1H
BEGIN:VTIMEZONE
TZID:UTC
BEGIN:STANDARD
TZOFFSETFROM:+0000
TZOFFSETTO:+0000
TZNAME:UTC
DTSTART:20280101T000000
END:STANDARD
END:VTIMEZONE
BEGIN:VEVENT
DTSTART;VALUE=DATE:20290127
DTEND;VALUE=DATE:20290128
DTSTAMP:20260421T184442
CREATED:20230719T191546Z
LAST-MODIFIED:20230719T191546Z
UID:10000361-1864166400-1864252799@www.lostnationgolf.com
SUMMARY:Golf Tournament
DESCRIPTION:
URL:https://www.lostnationgolf.com/event/golf-tournament/2029-01-27/
END:VEVENT
BEGIN:VEVENT
DTSTART;TZID=UTC:20290130T150000
DTEND;TZID=UTC:20290130T170000
DTSTAMP:20260421T184442
CREATED:20230719T191655Z
LAST-MODIFIED:20230719T191655Z
UID:10000651-1864479600-1864486800@www.lostnationgolf.com
SUMMARY:Men's League
DESCRIPTION:
URL:https://www.lostnationgolf.com/event/mens-league/2029-01-30/
END:VEVENT
BEGIN:VEVENT
DTSTART;TZID=UTC:20290201T150000
DTEND;TZID=UTC:20290201T170000
DTSTAMP:20260421T184442
CREATED:20230719T191514Z
LAST-MODIFIED:20230719T191514Z
UID:10000290-1864652400-1864659600@www.lostnationgolf.com
SUMMARY:Ladies' Night
DESCRIPTION:
URL:https://www.lostnationgolf.com/event/ladies-night/2029-02-01/
END:VEVENT
BEGIN:VEVENT
DTSTART;TZID=UTC:20290206T150000
DTEND;TZID=UTC:20290206T170000
DTSTAMP:20260421T184442
CREATED:20230719T191655Z
LAST-MODIFIED:20230719T191655Z
UID:10000652-1865084400-1865091600@www.lostnationgolf.com
SUMMARY:Men's League
DESCRIPTION:
URL:https://www.lostnationgolf.com/event/mens-league/2029-02-06/
END:VEVENT
BEGIN:VEVENT
DTSTART;TZID=UTC:20290208T150000
DTEND;TZID=UTC:20290208T170000
DTSTAMP:20260421T184442
CREATED:20230719T191514Z
LAST-MODIFIED:20230719T191514Z
UID:10000291-1865257200-1865264400@www.lostnationgolf.com
SUMMARY:Ladies' Night
DESCRIPTION:
URL:https://www.lostnationgolf.com/event/ladies-night/2029-02-08/
END:VEVENT
BEGIN:VEVENT
DTSTART;TZID=UTC:20290213T150000
DTEND;TZID=UTC:20290213T170000
DTSTAMP:20260421T184442
CREATED:20230719T191655Z
LAST-MODIFIED:20230719T191655Z
UID:10000653-1865689200-1865696400@www.lostnationgolf.com
SUMMARY:Men's League
DESCRIPTION:
URL:https://www.lostnationgolf.com/event/mens-league/2029-02-13/
END:VEVENT
BEGIN:VEVENT
DTSTART;TZID=UTC:20290215T150000
DTEND;TZID=UTC:20290215T170000
DTSTAMP:20260421T184442
CREATED:20230719T191514Z
LAST-MODIFIED:20230719T191514Z
UID:10000292-1865862000-1865869200@www.lostnationgolf.com
SUMMARY:Ladies' Night
DESCRIPTION:
URL:https://www.lostnationgolf.com/event/ladies-night/2029-02-15/
END:VEVENT
BEGIN:VEVENT
DTSTART;TZID=UTC:20290220T150000
DTEND;TZID=UTC:20290220T170000
DTSTAMP:20260421T184442
CREATED:20230719T191655Z
LAST-MODIFIED:20230719T191655Z
UID:10000654-1866294000-1866301200@www.lostnationgolf.com
SUMMARY:Men's League
DESCRIPTION:
URL:https://www.lostnationgolf.com/event/mens-league/2029-02-20/
END:VEVENT
BEGIN:VEVENT
DTSTART;TZID=UTC:20290222T150000
DTEND;TZID=UTC:20290222T170000
DTSTAMP:20260421T184442
CREATED:20230719T191514Z
LAST-MODIFIED:20230719T191514Z
UID:10000293-1866466800-1866474000@www.lostnationgolf.com
SUMMARY:Ladies' Night
DESCRIPTION:
URL:https://www.lostnationgolf.com/event/ladies-night/2029-02-22/
END:VEVENT
BEGIN:VEVENT
DTSTART;VALUE=DATE:20290224
DTEND;VALUE=DATE:20290225
DTSTAMP:20260421T184442
CREATED:20230719T191546Z
LAST-MODIFIED:20230719T191546Z
UID:10000362-1866585600-1866671999@www.lostnationgolf.com
SUMMARY:Golf Tournament
DESCRIPTION:
URL:https://www.lostnationgolf.com/event/golf-tournament/2029-02-24/
END:VEVENT
BEGIN:VEVENT
DTSTART;TZID=UTC:20290227T150000
DTEND;TZID=UTC:20290227T170000
DTSTAMP:20260421T184442
CREATED:20230719T191655Z
LAST-MODIFIED:20230719T191655Z
UID:10000655-1866898800-1866906000@www.lostnationgolf.com
SUMMARY:Men's League
DESCRIPTION:
URL:https://www.lostnationgolf.com/event/mens-league/2029-02-27/
END:VEVENT
BEGIN:VEVENT
DTSTART;TZID=UTC:20290301T150000
DTEND;TZID=UTC:20290301T170000
DTSTAMP:20260421T184442
CREATED:20230719T191514Z
LAST-MODIFIED:20230719T191514Z
UID:10000294-1867071600-1867078800@www.lostnationgolf.com
SUMMARY:Ladies' Night
DESCRIPTION:
URL:https://www.lostnationgolf.com/event/ladies-night/2029-03-01/
END:VEVENT
BEGIN:VEVENT
DTSTART;TZID=UTC:20290306T150000
DTEND;TZID=UTC:20290306T170000
DTSTAMP:20260421T184442
CREATED:20230719T191655Z
LAST-MODIFIED:20230719T191655Z
UID:10000656-1867503600-1867510800@www.lostnationgolf.com
SUMMARY:Men's League
DESCRIPTION:
URL:https://www.lostnationgolf.com/event/mens-league/2029-03-06/
END:VEVENT
END:VCALENDAR