BEGIN:VCALENDAR
VERSION:2.0
PRODID:-//Lost Nation Golf Course - ECPv6.15.18//NONSGML v1.0//EN
CALSCALE:GREGORIAN
METHOD:PUBLISH
X-ORIGINAL-URL:https://www.lostnationgolf.com
X-WR-CALDESC:Events for Lost Nation Golf Course
REFRESH-INTERVAL;VALUE=DURATION:PT1H
X-Robots-Tag:noindex
X-PUBLISHED-TTL:PT1H
BEGIN:VTIMEZONE
TZID:UTC
BEGIN:STANDARD
TZOFFSETFROM:+0000
TZOFFSETTO:+0000
TZNAME:UTC
DTSTART:20270101T000000
END:STANDARD
END:VTIMEZONE
BEGIN:VEVENT
DTSTART;TZID=UTC:20281005T150000
DTEND;TZID=UTC:20281005T170000
DTSTAMP:20260421T103255
CREATED:20230719T191514Z
LAST-MODIFIED:20230719T191514Z
UID:10000273-1854370800-1854378000@www.lostnationgolf.com
SUMMARY:Ladies' Night
DESCRIPTION:
URL:https://www.lostnationgolf.com/event/ladies-night/2028-10-05/
END:VEVENT
BEGIN:VEVENT
DTSTART;TZID=UTC:20281010T150000
DTEND;TZID=UTC:20281010T170000
DTSTAMP:20260421T103255
CREATED:20230719T191655Z
LAST-MODIFIED:20230719T191655Z
UID:10000635-1854802800-1854810000@www.lostnationgolf.com
SUMMARY:Men's League
DESCRIPTION:
URL:https://www.lostnationgolf.com/event/mens-league/2028-10-10/
END:VEVENT
BEGIN:VEVENT
DTSTART;TZID=UTC:20281012T150000
DTEND;TZID=UTC:20281012T170000
DTSTAMP:20260421T103255
CREATED:20230719T191514Z
LAST-MODIFIED:20230719T191514Z
UID:10000274-1854975600-1854982800@www.lostnationgolf.com
SUMMARY:Ladies' Night
DESCRIPTION:
URL:https://www.lostnationgolf.com/event/ladies-night/2028-10-12/
END:VEVENT
BEGIN:VEVENT
DTSTART;TZID=UTC:20281017T150000
DTEND;TZID=UTC:20281017T170000
DTSTAMP:20260421T103255
CREATED:20230719T191655Z
LAST-MODIFIED:20230719T191655Z
UID:10000636-1855407600-1855414800@www.lostnationgolf.com
SUMMARY:Men's League
DESCRIPTION:
URL:https://www.lostnationgolf.com/event/mens-league/2028-10-17/
END:VEVENT
BEGIN:VEVENT
DTSTART;TZID=UTC:20281019T150000
DTEND;TZID=UTC:20281019T170000
DTSTAMP:20260421T103255
CREATED:20230719T191514Z
LAST-MODIFIED:20230719T191514Z
UID:10000275-1855580400-1855587600@www.lostnationgolf.com
SUMMARY:Ladies' Night
DESCRIPTION:
URL:https://www.lostnationgolf.com/event/ladies-night/2028-10-19/
END:VEVENT
BEGIN:VEVENT
DTSTART;TZID=UTC:20281024T150000
DTEND;TZID=UTC:20281024T170000
DTSTAMP:20260421T103255
CREATED:20230719T191655Z
LAST-MODIFIED:20230719T191655Z
UID:10000637-1856012400-1856019600@www.lostnationgolf.com
SUMMARY:Men's League
DESCRIPTION:
URL:https://www.lostnationgolf.com/event/mens-league/2028-10-24/
END:VEVENT
BEGIN:VEVENT
DTSTART;TZID=UTC:20281026T150000
DTEND;TZID=UTC:20281026T170000
DTSTAMP:20260421T103255
CREATED:20230719T191514Z
LAST-MODIFIED:20230719T191514Z
UID:10000276-1856185200-1856192400@www.lostnationgolf.com
SUMMARY:Ladies' Night
DESCRIPTION:
URL:https://www.lostnationgolf.com/event/ladies-night/2028-10-26/
END:VEVENT
BEGIN:VEVENT
DTSTART;VALUE=DATE:20281028
DTEND;VALUE=DATE:20281029
DTSTAMP:20260421T103255
CREATED:20230719T191546Z
LAST-MODIFIED:20230719T191546Z
UID:10000358-1856304000-1856390399@www.lostnationgolf.com
SUMMARY:Golf Tournament
DESCRIPTION:
URL:https://www.lostnationgolf.com/event/golf-tournament/2028-10-28/
END:VEVENT
BEGIN:VEVENT
DTSTART;TZID=UTC:20281031T150000
DTEND;TZID=UTC:20281031T170000
DTSTAMP:20260421T103255
CREATED:20230719T191655Z
LAST-MODIFIED:20230719T191655Z
UID:10000638-1856617200-1856624400@www.lostnationgolf.com
SUMMARY:Men's League
DESCRIPTION:
URL:https://www.lostnationgolf.com/event/mens-league/2028-10-31/
END:VEVENT
BEGIN:VEVENT
DTSTART;TZID=UTC:20281102T150000
DTEND;TZID=UTC:20281102T170000
DTSTAMP:20260421T103255
CREATED:20230719T191514Z
LAST-MODIFIED:20230719T191514Z
UID:10000277-1856790000-1856797200@www.lostnationgolf.com
SUMMARY:Ladies' Night
DESCRIPTION:
URL:https://www.lostnationgolf.com/event/ladies-night/2028-11-02/
END:VEVENT
BEGIN:VEVENT
DTSTART;TZID=UTC:20281107T150000
DTEND;TZID=UTC:20281107T170000
DTSTAMP:20260421T103255
CREATED:20230719T191655Z
LAST-MODIFIED:20230719T191655Z
UID:10000639-1857222000-1857229200@www.lostnationgolf.com
SUMMARY:Men's League
DESCRIPTION:
URL:https://www.lostnationgolf.com/event/mens-league/2028-11-07/
END:VEVENT
BEGIN:VEVENT
DTSTART;TZID=UTC:20281109T150000
DTEND;TZID=UTC:20281109T170000
DTSTAMP:20260421T103255
CREATED:20230719T191514Z
LAST-MODIFIED:20230719T191514Z
UID:10000278-1857394800-1857402000@www.lostnationgolf.com
SUMMARY:Ladies' Night
DESCRIPTION:
URL:https://www.lostnationgolf.com/event/ladies-night/2028-11-09/
END:VEVENT
BEGIN:VEVENT
DTSTART;TZID=UTC:20281114T150000
DTEND;TZID=UTC:20281114T170000
DTSTAMP:20260421T103255
CREATED:20230719T191655Z
LAST-MODIFIED:20230719T191655Z
UID:10000640-1857826800-1857834000@www.lostnationgolf.com
SUMMARY:Men's League
DESCRIPTION:
URL:https://www.lostnationgolf.com/event/mens-league/2028-11-14/
END:VEVENT
BEGIN:VEVENT
DTSTART;TZID=UTC:20281116T150000
DTEND;TZID=UTC:20281116T170000
DTSTAMP:20260421T103255
CREATED:20230719T191514Z
LAST-MODIFIED:20230719T191514Z
UID:10000279-1857999600-1858006800@www.lostnationgolf.com
SUMMARY:Ladies' Night
DESCRIPTION:
URL:https://www.lostnationgolf.com/event/ladies-night/2028-11-16/
END:VEVENT
BEGIN:VEVENT
DTSTART;TZID=UTC:20281121T150000
DTEND;TZID=UTC:20281121T170000
DTSTAMP:20260421T103255
CREATED:20230719T191655Z
LAST-MODIFIED:20230719T191655Z
UID:10000641-1858431600-1858438800@www.lostnationgolf.com
SUMMARY:Men's League
DESCRIPTION:
URL:https://www.lostnationgolf.com/event/mens-league/2028-11-21/
END:VEVENT
BEGIN:VEVENT
DTSTART;TZID=UTC:20281123T150000
DTEND;TZID=UTC:20281123T170000
DTSTAMP:20260421T103255
CREATED:20230719T191514Z
LAST-MODIFIED:20230719T191514Z
UID:10000280-1858604400-1858611600@www.lostnationgolf.com
SUMMARY:Ladies' Night
DESCRIPTION:
URL:https://www.lostnationgolf.com/event/ladies-night/2028-11-23/
END:VEVENT
BEGIN:VEVENT
DTSTART;VALUE=DATE:20281125
DTEND;VALUE=DATE:20281126
DTSTAMP:20260421T103255
CREATED:20230719T191546Z
LAST-MODIFIED:20230719T191546Z
UID:10000359-1858723200-1858809599@www.lostnationgolf.com
SUMMARY:Golf Tournament
DESCRIPTION:
URL:https://www.lostnationgolf.com/event/golf-tournament/2028-11-25/
END:VEVENT
BEGIN:VEVENT
DTSTART;TZID=UTC:20281128T150000
DTEND;TZID=UTC:20281128T170000
DTSTAMP:20260421T103255
CREATED:20230719T191655Z
LAST-MODIFIED:20230719T191655Z
UID:10000642-1859036400-1859043600@www.lostnationgolf.com
SUMMARY:Men's League
DESCRIPTION:
URL:https://www.lostnationgolf.com/event/mens-league/2028-11-28/
END:VEVENT
BEGIN:VEVENT
DTSTART;TZID=UTC:20281130T150000
DTEND;TZID=UTC:20281130T170000
DTSTAMP:20260421T103255
CREATED:20230719T191514Z
LAST-MODIFIED:20230719T191514Z
UID:10000281-1859209200-1859216400@www.lostnationgolf.com
SUMMARY:Ladies' Night
DESCRIPTION:
URL:https://www.lostnationgolf.com/event/ladies-night/2028-11-30/
END:VEVENT
BEGIN:VEVENT
DTSTART;TZID=UTC:20281205T150000
DTEND;TZID=UTC:20281205T170000
DTSTAMP:20260421T103255
CREATED:20230719T191655Z
LAST-MODIFIED:20230719T191655Z
UID:10000643-1859641200-1859648400@www.lostnationgolf.com
SUMMARY:Men's League
DESCRIPTION:
URL:https://www.lostnationgolf.com/event/mens-league/2028-12-05/
END:VEVENT
BEGIN:VEVENT
DTSTART;TZID=UTC:20281207T150000
DTEND;TZID=UTC:20281207T170000
DTSTAMP:20260421T103255
CREATED:20230719T191514Z
LAST-MODIFIED:20230719T191514Z
UID:10000282-1859814000-1859821200@www.lostnationgolf.com
SUMMARY:Ladies' Night
DESCRIPTION:
URL:https://www.lostnationgolf.com/event/ladies-night/2028-12-07/
END:VEVENT
BEGIN:VEVENT
DTSTART;TZID=UTC:20281212T150000
DTEND;TZID=UTC:20281212T170000
DTSTAMP:20260421T103255
CREATED:20230719T191655Z
LAST-MODIFIED:20230719T191655Z
UID:10000644-1860246000-1860253200@www.lostnationgolf.com
SUMMARY:Men's League
DESCRIPTION:
URL:https://www.lostnationgolf.com/event/mens-league/2028-12-12/
END:VEVENT
BEGIN:VEVENT
DTSTART;TZID=UTC:20281214T150000
DTEND;TZID=UTC:20281214T170000
DTSTAMP:20260421T103255
CREATED:20230719T191514Z
LAST-MODIFIED:20230719T191514Z
UID:10000283-1860418800-1860426000@www.lostnationgolf.com
SUMMARY:Ladies' Night
DESCRIPTION:
URL:https://www.lostnationgolf.com/event/ladies-night/2028-12-14/
END:VEVENT
BEGIN:VEVENT
DTSTART;TZID=UTC:20281219T150000
DTEND;TZID=UTC:20281219T170000
DTSTAMP:20260421T103255
CREATED:20230719T191655Z
LAST-MODIFIED:20230719T191655Z
UID:10000645-1860850800-1860858000@www.lostnationgolf.com
SUMMARY:Men's League
DESCRIPTION:
URL:https://www.lostnationgolf.com/event/mens-league/2028-12-19/
END:VEVENT
BEGIN:VEVENT
DTSTART;TZID=UTC:20281221T150000
DTEND;TZID=UTC:20281221T170000
DTSTAMP:20260421T103255
CREATED:20230719T191514Z
LAST-MODIFIED:20230719T191514Z
UID:10000284-1861023600-1861030800@www.lostnationgolf.com
SUMMARY:Ladies' Night
DESCRIPTION:
URL:https://www.lostnationgolf.com/event/ladies-night/2028-12-21/
END:VEVENT
BEGIN:VEVENT
DTSTART;VALUE=DATE:20281223
DTEND;VALUE=DATE:20281224
DTSTAMP:20260421T103255
CREATED:20230719T191546Z
LAST-MODIFIED:20230719T191546Z
UID:10000360-1861142400-1861228799@www.lostnationgolf.com
SUMMARY:Golf Tournament
DESCRIPTION:
URL:https://www.lostnationgolf.com/event/golf-tournament/2028-12-23/
END:VEVENT
BEGIN:VEVENT
DTSTART;TZID=UTC:20281226T150000
DTEND;TZID=UTC:20281226T170000
DTSTAMP:20260421T103255
CREATED:20230719T191655Z
LAST-MODIFIED:20230719T191655Z
UID:10000646-1861455600-1861462800@www.lostnationgolf.com
SUMMARY:Men's League
DESCRIPTION:
URL:https://www.lostnationgolf.com/event/mens-league/2028-12-26/
END:VEVENT
BEGIN:VEVENT
DTSTART;TZID=UTC:20281228T150000
DTEND;TZID=UTC:20281228T170000
DTSTAMP:20260421T103255
CREATED:20230719T191514Z
LAST-MODIFIED:20230719T191514Z
UID:10000285-1861628400-1861635600@www.lostnationgolf.com
SUMMARY:Ladies' Night
DESCRIPTION:
URL:https://www.lostnationgolf.com/event/ladies-night/2028-12-28/
END:VEVENT
BEGIN:VEVENT
DTSTART;TZID=UTC:20290102T150000
DTEND;TZID=UTC:20290102T170000
DTSTAMP:20260421T103255
CREATED:20230719T191655Z
LAST-MODIFIED:20230719T191655Z
UID:10000647-1862060400-1862067600@www.lostnationgolf.com
SUMMARY:Men's League
DESCRIPTION:
URL:https://www.lostnationgolf.com/event/mens-league/2029-01-02/
END:VEVENT
BEGIN:VEVENT
DTSTART;TZID=UTC:20290104T150000
DTEND;TZID=UTC:20290104T170000
DTSTAMP:20260421T103255
CREATED:20230719T191514Z
LAST-MODIFIED:20230719T191514Z
UID:10000286-1862233200-1862240400@www.lostnationgolf.com
SUMMARY:Ladies' Night
DESCRIPTION:
URL:https://www.lostnationgolf.com/event/ladies-night/2029-01-04/
END:VEVENT
END:VCALENDAR