BEGIN:VCALENDAR
VERSION:2.0
PRODID:-//Lost Nation Golf Course - ECPv6.15.18//NONSGML v1.0//EN
CALSCALE:GREGORIAN
METHOD:PUBLISH
X-WR-CALNAME:Lost Nation Golf Course
X-ORIGINAL-URL:https://www.lostnationgolf.com
X-WR-CALDESC:Events for Lost Nation Golf Course
REFRESH-INTERVAL;VALUE=DURATION:PT1H
X-Robots-Tag:noindex
X-PUBLISHED-TTL:PT1H
BEGIN:VTIMEZONE
TZID:UTC
BEGIN:STANDARD
TZOFFSETFROM:+0000
TZOFFSETTO:+0000
TZNAME:UTC
DTSTART:20270101T000000
END:STANDARD
END:VTIMEZONE
BEGIN:VEVENT
DTSTART;TZID=UTC:20280704T150000
DTEND;TZID=UTC:20280704T170000
DTSTAMP:20260420T235659
CREATED:20230719T191655Z
LAST-MODIFIED:20230719T191655Z
UID:10000621-1846335600-1846342800@www.lostnationgolf.com
SUMMARY:Men's League
DESCRIPTION:
URL:https://www.lostnationgolf.com/event/mens-league/2028-07-04/
END:VEVENT
BEGIN:VEVENT
DTSTART;TZID=UTC:20280706T150000
DTEND;TZID=UTC:20280706T170000
DTSTAMP:20260420T235659
CREATED:20230719T191514Z
LAST-MODIFIED:20230719T191514Z
UID:10000260-1846508400-1846515600@www.lostnationgolf.com
SUMMARY:Ladies' Night
DESCRIPTION:
URL:https://www.lostnationgolf.com/event/ladies-night/2028-07-06/
END:VEVENT
BEGIN:VEVENT
DTSTART;TZID=UTC:20280711T150000
DTEND;TZID=UTC:20280711T170000
DTSTAMP:20260420T235659
CREATED:20230719T191655Z
LAST-MODIFIED:20230719T191655Z
UID:10000622-1846940400-1846947600@www.lostnationgolf.com
SUMMARY:Men's League
DESCRIPTION:
URL:https://www.lostnationgolf.com/event/mens-league/2028-07-11/
END:VEVENT
BEGIN:VEVENT
DTSTART;TZID=UTC:20280713T150000
DTEND;TZID=UTC:20280713T170000
DTSTAMP:20260420T235659
CREATED:20230719T191514Z
LAST-MODIFIED:20230719T191514Z
UID:10000261-1847113200-1847120400@www.lostnationgolf.com
SUMMARY:Ladies' Night
DESCRIPTION:
URL:https://www.lostnationgolf.com/event/ladies-night/2028-07-13/
END:VEVENT
BEGIN:VEVENT
DTSTART;TZID=UTC:20280718T150000
DTEND;TZID=UTC:20280718T170000
DTSTAMP:20260420T235659
CREATED:20230719T191655Z
LAST-MODIFIED:20230719T191655Z
UID:10000623-1847545200-1847552400@www.lostnationgolf.com
SUMMARY:Men's League
DESCRIPTION:
URL:https://www.lostnationgolf.com/event/mens-league/2028-07-18/
END:VEVENT
BEGIN:VEVENT
DTSTART;TZID=UTC:20280720T150000
DTEND;TZID=UTC:20280720T170000
DTSTAMP:20260420T235659
CREATED:20230719T191514Z
LAST-MODIFIED:20230719T191514Z
UID:10000262-1847718000-1847725200@www.lostnationgolf.com
SUMMARY:Ladies' Night
DESCRIPTION:
URL:https://www.lostnationgolf.com/event/ladies-night/2028-07-20/
END:VEVENT
BEGIN:VEVENT
DTSTART;VALUE=DATE:20280722
DTEND;VALUE=DATE:20280723
DTSTAMP:20260420T235659
CREATED:20230719T191546Z
LAST-MODIFIED:20230719T191546Z
UID:10000355-1847836800-1847923199@www.lostnationgolf.com
SUMMARY:Golf Tournament
DESCRIPTION:
URL:https://www.lostnationgolf.com/event/golf-tournament/2028-07-22/
END:VEVENT
BEGIN:VEVENT
DTSTART;TZID=UTC:20280725T150000
DTEND;TZID=UTC:20280725T170000
DTSTAMP:20260420T235659
CREATED:20230719T191655Z
LAST-MODIFIED:20230719T191655Z
UID:10000624-1848150000-1848157200@www.lostnationgolf.com
SUMMARY:Men's League
DESCRIPTION:
URL:https://www.lostnationgolf.com/event/mens-league/2028-07-25/
END:VEVENT
BEGIN:VEVENT
DTSTART;TZID=UTC:20280727T150000
DTEND;TZID=UTC:20280727T170000
DTSTAMP:20260420T235659
CREATED:20230719T191514Z
LAST-MODIFIED:20230719T191514Z
UID:10000263-1848322800-1848330000@www.lostnationgolf.com
SUMMARY:Ladies' Night
DESCRIPTION:
URL:https://www.lostnationgolf.com/event/ladies-night/2028-07-27/
END:VEVENT
BEGIN:VEVENT
DTSTART;TZID=UTC:20280801T150000
DTEND;TZID=UTC:20280801T170000
DTSTAMP:20260420T235659
CREATED:20230719T191655Z
LAST-MODIFIED:20230719T191655Z
UID:10000625-1848754800-1848762000@www.lostnationgolf.com
SUMMARY:Men's League
DESCRIPTION:
URL:https://www.lostnationgolf.com/event/mens-league/2028-08-01/
END:VEVENT
BEGIN:VEVENT
DTSTART;TZID=UTC:20280803T150000
DTEND;TZID=UTC:20280803T170000
DTSTAMP:20260420T235659
CREATED:20230719T191514Z
LAST-MODIFIED:20230719T191514Z
UID:10000264-1848927600-1848934800@www.lostnationgolf.com
SUMMARY:Ladies' Night
DESCRIPTION:
URL:https://www.lostnationgolf.com/event/ladies-night/2028-08-03/
END:VEVENT
BEGIN:VEVENT
DTSTART;TZID=UTC:20280808T150000
DTEND;TZID=UTC:20280808T170000
DTSTAMP:20260420T235659
CREATED:20230719T191655Z
LAST-MODIFIED:20230719T191655Z
UID:10000626-1849359600-1849366800@www.lostnationgolf.com
SUMMARY:Men's League
DESCRIPTION:
URL:https://www.lostnationgolf.com/event/mens-league/2028-08-08/
END:VEVENT
BEGIN:VEVENT
DTSTART;TZID=UTC:20280810T150000
DTEND;TZID=UTC:20280810T170000
DTSTAMP:20260420T235659
CREATED:20230719T191514Z
LAST-MODIFIED:20230719T191514Z
UID:10000265-1849532400-1849539600@www.lostnationgolf.com
SUMMARY:Ladies' Night
DESCRIPTION:
URL:https://www.lostnationgolf.com/event/ladies-night/2028-08-10/
END:VEVENT
BEGIN:VEVENT
DTSTART;TZID=UTC:20280815T150000
DTEND;TZID=UTC:20280815T170000
DTSTAMP:20260420T235659
CREATED:20230719T191655Z
LAST-MODIFIED:20230719T191655Z
UID:10000627-1849964400-1849971600@www.lostnationgolf.com
SUMMARY:Men's League
DESCRIPTION:
URL:https://www.lostnationgolf.com/event/mens-league/2028-08-15/
END:VEVENT
BEGIN:VEVENT
DTSTART;TZID=UTC:20280817T150000
DTEND;TZID=UTC:20280817T170000
DTSTAMP:20260420T235659
CREATED:20230719T191514Z
LAST-MODIFIED:20230719T191514Z
UID:10000266-1850137200-1850144400@www.lostnationgolf.com
SUMMARY:Ladies' Night
DESCRIPTION:
URL:https://www.lostnationgolf.com/event/ladies-night/2028-08-17/
END:VEVENT
BEGIN:VEVENT
DTSTART;TZID=UTC:20280822T150000
DTEND;TZID=UTC:20280822T170000
DTSTAMP:20260420T235659
CREATED:20230719T191655Z
LAST-MODIFIED:20230719T191655Z
UID:10000628-1850569200-1850576400@www.lostnationgolf.com
SUMMARY:Men's League
DESCRIPTION:
URL:https://www.lostnationgolf.com/event/mens-league/2028-08-22/
END:VEVENT
BEGIN:VEVENT
DTSTART;TZID=UTC:20280824T150000
DTEND;TZID=UTC:20280824T170000
DTSTAMP:20260420T235659
CREATED:20230719T191514Z
LAST-MODIFIED:20230719T191514Z
UID:10000267-1850742000-1850749200@www.lostnationgolf.com
SUMMARY:Ladies' Night
DESCRIPTION:
URL:https://www.lostnationgolf.com/event/ladies-night/2028-08-24/
END:VEVENT
BEGIN:VEVENT
DTSTART;VALUE=DATE:20280826
DTEND;VALUE=DATE:20280827
DTSTAMP:20260420T235659
CREATED:20230719T191546Z
LAST-MODIFIED:20230719T191546Z
UID:10000356-1850860800-1850947199@www.lostnationgolf.com
SUMMARY:Golf Tournament
DESCRIPTION:
URL:https://www.lostnationgolf.com/event/golf-tournament/2028-08-26/
END:VEVENT
BEGIN:VEVENT
DTSTART;TZID=UTC:20280829T150000
DTEND;TZID=UTC:20280829T170000
DTSTAMP:20260420T235659
CREATED:20230719T191655Z
LAST-MODIFIED:20230719T191655Z
UID:10000629-1851174000-1851181200@www.lostnationgolf.com
SUMMARY:Men's League
DESCRIPTION:
URL:https://www.lostnationgolf.com/event/mens-league/2028-08-29/
END:VEVENT
BEGIN:VEVENT
DTSTART;TZID=UTC:20280831T150000
DTEND;TZID=UTC:20280831T170000
DTSTAMP:20260420T235659
CREATED:20230719T191514Z
LAST-MODIFIED:20230719T191514Z
UID:10000268-1851346800-1851354000@www.lostnationgolf.com
SUMMARY:Ladies' Night
DESCRIPTION:
URL:https://www.lostnationgolf.com/event/ladies-night/2028-08-31/
END:VEVENT
BEGIN:VEVENT
DTSTART;TZID=UTC:20280905T150000
DTEND;TZID=UTC:20280905T170000
DTSTAMP:20260420T235659
CREATED:20230719T191655Z
LAST-MODIFIED:20230719T191655Z
UID:10000630-1851778800-1851786000@www.lostnationgolf.com
SUMMARY:Men's League
DESCRIPTION:
URL:https://www.lostnationgolf.com/event/mens-league/2028-09-05/
END:VEVENT
BEGIN:VEVENT
DTSTART;TZID=UTC:20280907T150000
DTEND;TZID=UTC:20280907T170000
DTSTAMP:20260420T235659
CREATED:20230719T191514Z
LAST-MODIFIED:20230719T191514Z
UID:10000269-1851951600-1851958800@www.lostnationgolf.com
SUMMARY:Ladies' Night
DESCRIPTION:
URL:https://www.lostnationgolf.com/event/ladies-night/2028-09-07/
END:VEVENT
BEGIN:VEVENT
DTSTART;TZID=UTC:20280912T150000
DTEND;TZID=UTC:20280912T170000
DTSTAMP:20260420T235659
CREATED:20230719T191655Z
LAST-MODIFIED:20230719T191655Z
UID:10000631-1852383600-1852390800@www.lostnationgolf.com
SUMMARY:Men's League
DESCRIPTION:
URL:https://www.lostnationgolf.com/event/mens-league/2028-09-12/
END:VEVENT
BEGIN:VEVENT
DTSTART;TZID=UTC:20280914T150000
DTEND;TZID=UTC:20280914T170000
DTSTAMP:20260420T235659
CREATED:20230719T191514Z
LAST-MODIFIED:20230719T191514Z
UID:10000270-1852556400-1852563600@www.lostnationgolf.com
SUMMARY:Ladies' Night
DESCRIPTION:
URL:https://www.lostnationgolf.com/event/ladies-night/2028-09-14/
END:VEVENT
BEGIN:VEVENT
DTSTART;TZID=UTC:20280919T150000
DTEND;TZID=UTC:20280919T170000
DTSTAMP:20260420T235659
CREATED:20230719T191655Z
LAST-MODIFIED:20230719T191655Z
UID:10000632-1852988400-1852995600@www.lostnationgolf.com
SUMMARY:Men's League
DESCRIPTION:
URL:https://www.lostnationgolf.com/event/mens-league/2028-09-19/
END:VEVENT
BEGIN:VEVENT
DTSTART;TZID=UTC:20280921T150000
DTEND;TZID=UTC:20280921T170000
DTSTAMP:20260420T235659
CREATED:20230719T191514Z
LAST-MODIFIED:20230719T191514Z
UID:10000271-1853161200-1853168400@www.lostnationgolf.com
SUMMARY:Ladies' Night
DESCRIPTION:
URL:https://www.lostnationgolf.com/event/ladies-night/2028-09-21/
END:VEVENT
BEGIN:VEVENT
DTSTART;VALUE=DATE:20280923
DTEND;VALUE=DATE:20280924
DTSTAMP:20260420T235659
CREATED:20230719T191546Z
LAST-MODIFIED:20230719T191546Z
UID:10000357-1853280000-1853366399@www.lostnationgolf.com
SUMMARY:Golf Tournament
DESCRIPTION:
URL:https://www.lostnationgolf.com/event/golf-tournament/2028-09-23/
END:VEVENT
BEGIN:VEVENT
DTSTART;TZID=UTC:20280926T150000
DTEND;TZID=UTC:20280926T170000
DTSTAMP:20260420T235659
CREATED:20230719T191655Z
LAST-MODIFIED:20230719T191655Z
UID:10000633-1853593200-1853600400@www.lostnationgolf.com
SUMMARY:Men's League
DESCRIPTION:
URL:https://www.lostnationgolf.com/event/mens-league/2028-09-26/
END:VEVENT
BEGIN:VEVENT
DTSTART;TZID=UTC:20280928T150000
DTEND;TZID=UTC:20280928T170000
DTSTAMP:20260420T235659
CREATED:20230719T191514Z
LAST-MODIFIED:20230719T191514Z
UID:10000272-1853766000-1853773200@www.lostnationgolf.com
SUMMARY:Ladies' Night
DESCRIPTION:
URL:https://www.lostnationgolf.com/event/ladies-night/2028-09-28/
END:VEVENT
BEGIN:VEVENT
DTSTART;TZID=UTC:20281003T150000
DTEND;TZID=UTC:20281003T170000
DTSTAMP:20260420T235659
CREATED:20230719T191655Z
LAST-MODIFIED:20230719T191655Z
UID:10000634-1854198000-1854205200@www.lostnationgolf.com
SUMMARY:Men's League
DESCRIPTION:
URL:https://www.lostnationgolf.com/event/mens-league/2028-10-03/
END:VEVENT
END:VCALENDAR