BEGIN:VCALENDAR
VERSION:2.0
PRODID:-//Lost Nation Golf Course - ECPv6.15.18//NONSGML v1.0//EN
CALSCALE:GREGORIAN
METHOD:PUBLISH
X-ORIGINAL-URL:https://www.lostnationgolf.com
X-WR-CALDESC:Events for Lost Nation Golf Course
REFRESH-INTERVAL;VALUE=DURATION:PT1H
X-Robots-Tag:noindex
X-PUBLISHED-TTL:PT1H
BEGIN:VTIMEZONE
TZID:UTC
BEGIN:STANDARD
TZOFFSETFROM:+0000
TZOFFSETTO:+0000
TZNAME:UTC
DTSTART:20270101T000000
END:STANDARD
END:VTIMEZONE
BEGIN:VEVENT
DTSTART;TZID=UTC:20280125T150000
DTEND;TZID=UTC:20280125T170000
DTSTAMP:20260420T195529
CREATED:20230719T191655Z
LAST-MODIFIED:20230719T191655Z
UID:10000598-1832425200-1832432400@www.lostnationgolf.com
SUMMARY:Men's League
DESCRIPTION:
URL:https://www.lostnationgolf.com/event/mens-league/2028-01-25/
END:VEVENT
BEGIN:VEVENT
DTSTART;TZID=UTC:20280127T150000
DTEND;TZID=UTC:20280127T170000
DTSTAMP:20260420T195529
CREATED:20230719T191514Z
LAST-MODIFIED:20230719T191514Z
UID:10000237-1832598000-1832605200@www.lostnationgolf.com
SUMMARY:Ladies' Night
DESCRIPTION:
URL:https://www.lostnationgolf.com/event/ladies-night/2028-01-27/
END:VEVENT
BEGIN:VEVENT
DTSTART;TZID=UTC:20280201T150000
DTEND;TZID=UTC:20280201T170000
DTSTAMP:20260420T195529
CREATED:20230719T191655Z
LAST-MODIFIED:20230719T191655Z
UID:10000599-1833030000-1833037200@www.lostnationgolf.com
SUMMARY:Men's League
DESCRIPTION:
URL:https://www.lostnationgolf.com/event/mens-league/2028-02-01/
END:VEVENT
BEGIN:VEVENT
DTSTART;TZID=UTC:20280203T150000
DTEND;TZID=UTC:20280203T170000
DTSTAMP:20260420T195529
CREATED:20230719T191514Z
LAST-MODIFIED:20230719T191514Z
UID:10000238-1833202800-1833210000@www.lostnationgolf.com
SUMMARY:Ladies' Night
DESCRIPTION:
URL:https://www.lostnationgolf.com/event/ladies-night/2028-02-03/
END:VEVENT
BEGIN:VEVENT
DTSTART;TZID=UTC:20280208T150000
DTEND;TZID=UTC:20280208T170000
DTSTAMP:20260420T195529
CREATED:20230719T191655Z
LAST-MODIFIED:20230719T191655Z
UID:10000600-1833634800-1833642000@www.lostnationgolf.com
SUMMARY:Men's League
DESCRIPTION:
URL:https://www.lostnationgolf.com/event/mens-league/2028-02-08/
END:VEVENT
BEGIN:VEVENT
DTSTART;TZID=UTC:20280210T150000
DTEND;TZID=UTC:20280210T170000
DTSTAMP:20260420T195529
CREATED:20230719T191514Z
LAST-MODIFIED:20230719T191514Z
UID:10000239-1833807600-1833814800@www.lostnationgolf.com
SUMMARY:Ladies' Night
DESCRIPTION:
URL:https://www.lostnationgolf.com/event/ladies-night/2028-02-10/
END:VEVENT
BEGIN:VEVENT
DTSTART;TZID=UTC:20280215T150000
DTEND;TZID=UTC:20280215T170000
DTSTAMP:20260420T195529
CREATED:20230719T191655Z
LAST-MODIFIED:20230719T191655Z
UID:10000601-1834239600-1834246800@www.lostnationgolf.com
SUMMARY:Men's League
DESCRIPTION:
URL:https://www.lostnationgolf.com/event/mens-league/2028-02-15/
END:VEVENT
BEGIN:VEVENT
DTSTART;TZID=UTC:20280217T150000
DTEND;TZID=UTC:20280217T170000
DTSTAMP:20260420T195529
CREATED:20230719T191514Z
LAST-MODIFIED:20230719T191514Z
UID:10000240-1834412400-1834419600@www.lostnationgolf.com
SUMMARY:Ladies' Night
DESCRIPTION:
URL:https://www.lostnationgolf.com/event/ladies-night/2028-02-17/
END:VEVENT
BEGIN:VEVENT
DTSTART;TZID=UTC:20280222T150000
DTEND;TZID=UTC:20280222T170000
DTSTAMP:20260420T195529
CREATED:20230719T191655Z
LAST-MODIFIED:20230719T191655Z
UID:10000602-1834844400-1834851600@www.lostnationgolf.com
SUMMARY:Men's League
DESCRIPTION:
URL:https://www.lostnationgolf.com/event/mens-league/2028-02-22/
END:VEVENT
BEGIN:VEVENT
DTSTART;TZID=UTC:20280224T150000
DTEND;TZID=UTC:20280224T170000
DTSTAMP:20260420T195529
CREATED:20230719T191514Z
LAST-MODIFIED:20230719T191514Z
UID:10000241-1835017200-1835024400@www.lostnationgolf.com
SUMMARY:Ladies' Night
DESCRIPTION:
URL:https://www.lostnationgolf.com/event/ladies-night/2028-02-24/
END:VEVENT
BEGIN:VEVENT
DTSTART;VALUE=DATE:20280226
DTEND;VALUE=DATE:20280227
DTSTAMP:20260420T195529
CREATED:20230719T191546Z
LAST-MODIFIED:20230719T191546Z
UID:10000350-1835136000-1835222399@www.lostnationgolf.com
SUMMARY:Golf Tournament
DESCRIPTION:
URL:https://www.lostnationgolf.com/event/golf-tournament/2028-02-26/
END:VEVENT
BEGIN:VEVENT
DTSTART;TZID=UTC:20280229T150000
DTEND;TZID=UTC:20280229T170000
DTSTAMP:20260420T195529
CREATED:20230719T191655Z
LAST-MODIFIED:20230719T191655Z
UID:10000603-1835449200-1835456400@www.lostnationgolf.com
SUMMARY:Men's League
DESCRIPTION:
URL:https://www.lostnationgolf.com/event/mens-league/2028-02-29/
END:VEVENT
BEGIN:VEVENT
DTSTART;TZID=UTC:20280302T150000
DTEND;TZID=UTC:20280302T170000
DTSTAMP:20260420T195529
CREATED:20230719T191514Z
LAST-MODIFIED:20230719T191514Z
UID:10000242-1835622000-1835629200@www.lostnationgolf.com
SUMMARY:Ladies' Night
DESCRIPTION:
URL:https://www.lostnationgolf.com/event/ladies-night/2028-03-02/
END:VEVENT
BEGIN:VEVENT
DTSTART;TZID=UTC:20280307T150000
DTEND;TZID=UTC:20280307T170000
DTSTAMP:20260420T195529
CREATED:20230719T191655Z
LAST-MODIFIED:20230719T191655Z
UID:10000604-1836054000-1836061200@www.lostnationgolf.com
SUMMARY:Men's League
DESCRIPTION:
URL:https://www.lostnationgolf.com/event/mens-league/2028-03-07/
END:VEVENT
BEGIN:VEVENT
DTSTART;TZID=UTC:20280309T150000
DTEND;TZID=UTC:20280309T170000
DTSTAMP:20260420T195529
CREATED:20230719T191514Z
LAST-MODIFIED:20230719T191514Z
UID:10000243-1836226800-1836234000@www.lostnationgolf.com
SUMMARY:Ladies' Night
DESCRIPTION:
URL:https://www.lostnationgolf.com/event/ladies-night/2028-03-09/
END:VEVENT
BEGIN:VEVENT
DTSTART;TZID=UTC:20280314T150000
DTEND;TZID=UTC:20280314T170000
DTSTAMP:20260420T195529
CREATED:20230719T191655Z
LAST-MODIFIED:20230719T191655Z
UID:10000605-1836658800-1836666000@www.lostnationgolf.com
SUMMARY:Men's League
DESCRIPTION:
URL:https://www.lostnationgolf.com/event/mens-league/2028-03-14/
END:VEVENT
BEGIN:VEVENT
DTSTART;TZID=UTC:20280316T150000
DTEND;TZID=UTC:20280316T170000
DTSTAMP:20260420T195529
CREATED:20230719T191514Z
LAST-MODIFIED:20230719T191514Z
UID:10000244-1836831600-1836838800@www.lostnationgolf.com
SUMMARY:Ladies' Night
DESCRIPTION:
URL:https://www.lostnationgolf.com/event/ladies-night/2028-03-16/
END:VEVENT
BEGIN:VEVENT
DTSTART;TZID=UTC:20280321T150000
DTEND;TZID=UTC:20280321T170000
DTSTAMP:20260420T195529
CREATED:20230719T191655Z
LAST-MODIFIED:20230719T191655Z
UID:10000606-1837263600-1837270800@www.lostnationgolf.com
SUMMARY:Men's League
DESCRIPTION:
URL:https://www.lostnationgolf.com/event/mens-league/2028-03-21/
END:VEVENT
BEGIN:VEVENT
DTSTART;TZID=UTC:20280323T150000
DTEND;TZID=UTC:20280323T170000
DTSTAMP:20260420T195529
CREATED:20230719T191514Z
LAST-MODIFIED:20230719T191514Z
UID:10000245-1837436400-1837443600@www.lostnationgolf.com
SUMMARY:Ladies' Night
DESCRIPTION:
URL:https://www.lostnationgolf.com/event/ladies-night/2028-03-23/
END:VEVENT
BEGIN:VEVENT
DTSTART;VALUE=DATE:20280325
DTEND;VALUE=DATE:20280326
DTSTAMP:20260420T195529
CREATED:20230719T191546Z
LAST-MODIFIED:20230719T191546Z
UID:10000351-1837555200-1837641599@www.lostnationgolf.com
SUMMARY:Golf Tournament
DESCRIPTION:
URL:https://www.lostnationgolf.com/event/golf-tournament/2028-03-25/
END:VEVENT
BEGIN:VEVENT
DTSTART;TZID=UTC:20280328T150000
DTEND;TZID=UTC:20280328T170000
DTSTAMP:20260420T195529
CREATED:20230719T191655Z
LAST-MODIFIED:20230719T191655Z
UID:10000607-1837868400-1837875600@www.lostnationgolf.com
SUMMARY:Men's League
DESCRIPTION:
URL:https://www.lostnationgolf.com/event/mens-league/2028-03-28/
END:VEVENT
BEGIN:VEVENT
DTSTART;TZID=UTC:20280330T150000
DTEND;TZID=UTC:20280330T170000
DTSTAMP:20260420T195529
CREATED:20230719T191514Z
LAST-MODIFIED:20230719T191514Z
UID:10000246-1838041200-1838048400@www.lostnationgolf.com
SUMMARY:Ladies' Night
DESCRIPTION:
URL:https://www.lostnationgolf.com/event/ladies-night/2028-03-30/
END:VEVENT
BEGIN:VEVENT
DTSTART;TZID=UTC:20280404T150000
DTEND;TZID=UTC:20280404T170000
DTSTAMP:20260420T195529
CREATED:20230719T191655Z
LAST-MODIFIED:20230719T191655Z
UID:10000608-1838473200-1838480400@www.lostnationgolf.com
SUMMARY:Men's League
DESCRIPTION:
URL:https://www.lostnationgolf.com/event/mens-league/2028-04-04/
END:VEVENT
BEGIN:VEVENT
DTSTART;TZID=UTC:20280406T150000
DTEND;TZID=UTC:20280406T170000
DTSTAMP:20260420T195529
CREATED:20230719T191514Z
LAST-MODIFIED:20230719T191514Z
UID:10000247-1838646000-1838653200@www.lostnationgolf.com
SUMMARY:Ladies' Night
DESCRIPTION:
URL:https://www.lostnationgolf.com/event/ladies-night/2028-04-06/
END:VEVENT
BEGIN:VEVENT
DTSTART;TZID=UTC:20280411T150000
DTEND;TZID=UTC:20280411T170000
DTSTAMP:20260420T195529
CREATED:20230719T191655Z
LAST-MODIFIED:20230719T191655Z
UID:10000609-1839078000-1839085200@www.lostnationgolf.com
SUMMARY:Men's League
DESCRIPTION:
URL:https://www.lostnationgolf.com/event/mens-league/2028-04-11/
END:VEVENT
BEGIN:VEVENT
DTSTART;TZID=UTC:20280413T150000
DTEND;TZID=UTC:20280413T170000
DTSTAMP:20260420T195529
CREATED:20230719T191514Z
LAST-MODIFIED:20230719T191514Z
UID:10000248-1839250800-1839258000@www.lostnationgolf.com
SUMMARY:Ladies' Night
DESCRIPTION:
URL:https://www.lostnationgolf.com/event/ladies-night/2028-04-13/
END:VEVENT
BEGIN:VEVENT
DTSTART;TZID=UTC:20280418T150000
DTEND;TZID=UTC:20280418T170000
DTSTAMP:20260420T195529
CREATED:20230719T191655Z
LAST-MODIFIED:20230719T191655Z
UID:10000610-1839682800-1839690000@www.lostnationgolf.com
SUMMARY:Men's League
DESCRIPTION:
URL:https://www.lostnationgolf.com/event/mens-league/2028-04-18/
END:VEVENT
BEGIN:VEVENT
DTSTART;TZID=UTC:20280420T150000
DTEND;TZID=UTC:20280420T170000
DTSTAMP:20260420T195529
CREATED:20230719T191514Z
LAST-MODIFIED:20230719T191514Z
UID:10000249-1839855600-1839862800@www.lostnationgolf.com
SUMMARY:Ladies' Night
DESCRIPTION:
URL:https://www.lostnationgolf.com/event/ladies-night/2028-04-20/
END:VEVENT
BEGIN:VEVENT
DTSTART;VALUE=DATE:20280422
DTEND;VALUE=DATE:20280423
DTSTAMP:20260420T195529
CREATED:20230719T191546Z
LAST-MODIFIED:20230719T191546Z
UID:10000352-1839974400-1840060799@www.lostnationgolf.com
SUMMARY:Golf Tournament
DESCRIPTION:
URL:https://www.lostnationgolf.com/event/golf-tournament/2028-04-22/
END:VEVENT
BEGIN:VEVENT
DTSTART;TZID=UTC:20280425T150000
DTEND;TZID=UTC:20280425T170000
DTSTAMP:20260420T195529
CREATED:20230719T191655Z
LAST-MODIFIED:20230719T191655Z
UID:10000611-1840287600-1840294800@www.lostnationgolf.com
SUMMARY:Men's League
DESCRIPTION:
URL:https://www.lostnationgolf.com/event/mens-league/2028-04-25/
END:VEVENT
END:VCALENDAR