BEGIN:VCALENDAR
VERSION:2.0
PRODID:-//Lost Nation Golf Course - ECPv6.15.18//NONSGML v1.0//EN
CALSCALE:GREGORIAN
METHOD:PUBLISH
X-WR-CALNAME:Lost Nation Golf Course
X-ORIGINAL-URL:https://www.lostnationgolf.com
X-WR-CALDESC:Events for Lost Nation Golf Course
REFRESH-INTERVAL;VALUE=DURATION:PT1H
X-Robots-Tag:noindex
X-PUBLISHED-TTL:PT1H
BEGIN:VTIMEZONE
TZID:UTC
BEGIN:STANDARD
TZOFFSETFROM:+0000
TZOFFSETTO:+0000
TZNAME:UTC
DTSTART:20230101T000000
END:STANDARD
END:VTIMEZONE
BEGIN:VEVENT
DTSTART;TZID=UTC:20250116T150000
DTEND;TZID=UTC:20250116T170000
DTSTAMP:20260420T022541
CREATED:20230719T191514Z
LAST-MODIFIED:20230719T191514Z
UID:10000079-1737039600-1737046800@www.lostnationgolf.com
SUMMARY:Ladies' Night
DESCRIPTION:
URL:https://www.lostnationgolf.com/event/ladies-night/2025-01-16/
END:VEVENT
BEGIN:VEVENT
DTSTART;TZID=UTC:20250114T150000
DTEND;TZID=UTC:20250114T170000
DTSTAMP:20260420T022541
CREATED:20230719T191655Z
LAST-MODIFIED:20230719T191655Z
UID:10000440-1736866800-1736874000@www.lostnationgolf.com
SUMMARY:Men's League
DESCRIPTION:
URL:https://www.lostnationgolf.com/event/mens-league/2025-01-14/
END:VEVENT
BEGIN:VEVENT
DTSTART;TZID=UTC:20250109T150000
DTEND;TZID=UTC:20250109T170000
DTSTAMP:20260420T022541
CREATED:20230719T191514Z
LAST-MODIFIED:20230719T191514Z
UID:10000078-1736434800-1736442000@www.lostnationgolf.com
SUMMARY:Ladies' Night
DESCRIPTION:
URL:https://www.lostnationgolf.com/event/ladies-night/2025-01-09/
END:VEVENT
BEGIN:VEVENT
DTSTART;TZID=UTC:20250107T150000
DTEND;TZID=UTC:20250107T170000
DTSTAMP:20260420T022541
CREATED:20230719T191655Z
LAST-MODIFIED:20230719T191655Z
UID:10000439-1736262000-1736269200@www.lostnationgolf.com
SUMMARY:Men's League
DESCRIPTION:
URL:https://www.lostnationgolf.com/event/mens-league/2025-01-07/
END:VEVENT
BEGIN:VEVENT
DTSTART;TZID=UTC:20250102T150000
DTEND;TZID=UTC:20250102T170000
DTSTAMP:20260420T022541
CREATED:20230719T191514Z
LAST-MODIFIED:20230719T191514Z
UID:10000077-1735830000-1735837200@www.lostnationgolf.com
SUMMARY:Ladies' Night
DESCRIPTION:
URL:https://www.lostnationgolf.com/event/ladies-night/2025-01-02/
END:VEVENT
BEGIN:VEVENT
DTSTART;TZID=UTC:20241231T150000
DTEND;TZID=UTC:20241231T170000
DTSTAMP:20260420T022541
CREATED:20230719T191655Z
LAST-MODIFIED:20230719T191655Z
UID:10000438-1735657200-1735664400@www.lostnationgolf.com
SUMMARY:Men's League
DESCRIPTION:
URL:https://www.lostnationgolf.com/event/mens-league/2024-12-31/
END:VEVENT
BEGIN:VEVENT
DTSTART;VALUE=DATE:20241228
DTEND;VALUE=DATE:20241229
DTSTAMP:20260420T022541
CREATED:20230719T191546Z
LAST-MODIFIED:20230719T191546Z
UID:10000312-1735344000-1735430399@www.lostnationgolf.com
SUMMARY:Golf Tournament
DESCRIPTION:
URL:https://www.lostnationgolf.com/event/golf-tournament/2024-12-28/
END:VEVENT
BEGIN:VEVENT
DTSTART;TZID=UTC:20241226T150000
DTEND;TZID=UTC:20241226T170000
DTSTAMP:20260420T022542
CREATED:20230719T191514Z
LAST-MODIFIED:20230719T191514Z
UID:10000076-1735225200-1735232400@www.lostnationgolf.com
SUMMARY:Ladies' Night
DESCRIPTION:
URL:https://www.lostnationgolf.com/event/ladies-night/2024-12-26/
END:VEVENT
BEGIN:VEVENT
DTSTART;TZID=UTC:20241224T150000
DTEND;TZID=UTC:20241224T170000
DTSTAMP:20260420T022542
CREATED:20230719T191655Z
LAST-MODIFIED:20230719T191655Z
UID:10000437-1735052400-1735059600@www.lostnationgolf.com
SUMMARY:Men's League
DESCRIPTION:
URL:https://www.lostnationgolf.com/event/mens-league/2024-12-24/
END:VEVENT
BEGIN:VEVENT
DTSTART;TZID=UTC:20241219T150000
DTEND;TZID=UTC:20241219T170000
DTSTAMP:20260420T022542
CREATED:20230719T191514Z
LAST-MODIFIED:20230719T191514Z
UID:10000075-1734620400-1734627600@www.lostnationgolf.com
SUMMARY:Ladies' Night
DESCRIPTION:
URL:https://www.lostnationgolf.com/event/ladies-night/2024-12-19/
END:VEVENT
BEGIN:VEVENT
DTSTART;TZID=UTC:20241217T150000
DTEND;TZID=UTC:20241217T170000
DTSTAMP:20260420T022542
CREATED:20230719T191655Z
LAST-MODIFIED:20230719T191655Z
UID:10000436-1734447600-1734454800@www.lostnationgolf.com
SUMMARY:Men's League
DESCRIPTION:
URL:https://www.lostnationgolf.com/event/mens-league/2024-12-17/
END:VEVENT
BEGIN:VEVENT
DTSTART;TZID=UTC:20241212T150000
DTEND;TZID=UTC:20241212T170000
DTSTAMP:20260420T022542
CREATED:20230719T191514Z
LAST-MODIFIED:20230719T191514Z
UID:10000074-1734015600-1734022800@www.lostnationgolf.com
SUMMARY:Ladies' Night
DESCRIPTION:
URL:https://www.lostnationgolf.com/event/ladies-night/2024-12-12/
END:VEVENT
BEGIN:VEVENT
DTSTART;TZID=UTC:20241210T150000
DTEND;TZID=UTC:20241210T170000
DTSTAMP:20260420T022542
CREATED:20230719T191655Z
LAST-MODIFIED:20230719T191655Z
UID:10000435-1733842800-1733850000@www.lostnationgolf.com
SUMMARY:Men's League
DESCRIPTION:
URL:https://www.lostnationgolf.com/event/mens-league/2024-12-10/
END:VEVENT
BEGIN:VEVENT
DTSTART;TZID=UTC:20241205T150000
DTEND;TZID=UTC:20241205T170000
DTSTAMP:20260420T022542
CREATED:20230719T191514Z
LAST-MODIFIED:20230719T191514Z
UID:10000073-1733410800-1733418000@www.lostnationgolf.com
SUMMARY:Ladies' Night
DESCRIPTION:
URL:https://www.lostnationgolf.com/event/ladies-night/2024-12-05/
END:VEVENT
BEGIN:VEVENT
DTSTART;TZID=UTC:20241203T150000
DTEND;TZID=UTC:20241203T170000
DTSTAMP:20260420T022542
CREATED:20230719T191655Z
LAST-MODIFIED:20230719T191655Z
UID:10000434-1733238000-1733245200@www.lostnationgolf.com
SUMMARY:Men's League
DESCRIPTION:
URL:https://www.lostnationgolf.com/event/mens-league/2024-12-03/
END:VEVENT
BEGIN:VEVENT
DTSTART;TZID=UTC:20241128T150000
DTEND;TZID=UTC:20241128T170000
DTSTAMP:20260420T022542
CREATED:20230719T191514Z
LAST-MODIFIED:20230719T191514Z
UID:10000072-1732806000-1732813200@www.lostnationgolf.com
SUMMARY:Ladies' Night
DESCRIPTION:
URL:https://www.lostnationgolf.com/event/ladies-night/2024-11-28/
END:VEVENT
BEGIN:VEVENT
DTSTART;TZID=UTC:20241126T150000
DTEND;TZID=UTC:20241126T170000
DTSTAMP:20260420T022542
CREATED:20230719T191655Z
LAST-MODIFIED:20230719T191655Z
UID:10000433-1732633200-1732640400@www.lostnationgolf.com
SUMMARY:Men's League
DESCRIPTION:
URL:https://www.lostnationgolf.com/event/mens-league/2024-11-26/
END:VEVENT
BEGIN:VEVENT
DTSTART;VALUE=DATE:20241123
DTEND;VALUE=DATE:20241124
DTSTAMP:20260420T022542
CREATED:20230719T191546Z
LAST-MODIFIED:20230719T191546Z
UID:10000311-1732320000-1732406399@www.lostnationgolf.com
SUMMARY:Golf Tournament
DESCRIPTION:
URL:https://www.lostnationgolf.com/event/golf-tournament/2024-11-23/
END:VEVENT
BEGIN:VEVENT
DTSTART;TZID=UTC:20241121T150000
DTEND;TZID=UTC:20241121T170000
DTSTAMP:20260420T022542
CREATED:20230719T191514Z
LAST-MODIFIED:20230719T191514Z
UID:10000071-1732201200-1732208400@www.lostnationgolf.com
SUMMARY:Ladies' Night
DESCRIPTION:
URL:https://www.lostnationgolf.com/event/ladies-night/2024-11-21/
END:VEVENT
BEGIN:VEVENT
DTSTART;TZID=UTC:20241119T150000
DTEND;TZID=UTC:20241119T170000
DTSTAMP:20260420T022542
CREATED:20230719T191655Z
LAST-MODIFIED:20230719T191655Z
UID:10000432-1732028400-1732035600@www.lostnationgolf.com
SUMMARY:Men's League
DESCRIPTION:
URL:https://www.lostnationgolf.com/event/mens-league/2024-11-19/
END:VEVENT
BEGIN:VEVENT
DTSTART;TZID=UTC:20241114T150000
DTEND;TZID=UTC:20241114T170000
DTSTAMP:20260420T022542
CREATED:20230719T191514Z
LAST-MODIFIED:20230719T191514Z
UID:10000070-1731596400-1731603600@www.lostnationgolf.com
SUMMARY:Ladies' Night
DESCRIPTION:
URL:https://www.lostnationgolf.com/event/ladies-night/2024-11-14/
END:VEVENT
BEGIN:VEVENT
DTSTART;TZID=UTC:20241112T150000
DTEND;TZID=UTC:20241112T170000
DTSTAMP:20260420T022542
CREATED:20230719T191655Z
LAST-MODIFIED:20230719T191655Z
UID:10000431-1731423600-1731430800@www.lostnationgolf.com
SUMMARY:Men's League
DESCRIPTION:
URL:https://www.lostnationgolf.com/event/mens-league/2024-11-12/
END:VEVENT
BEGIN:VEVENT
DTSTART;TZID=UTC:20241107T150000
DTEND;TZID=UTC:20241107T170000
DTSTAMP:20260420T022542
CREATED:20230719T191514Z
LAST-MODIFIED:20230719T191514Z
UID:10000069-1730991600-1730998800@www.lostnationgolf.com
SUMMARY:Ladies' Night
DESCRIPTION:
URL:https://www.lostnationgolf.com/event/ladies-night/2024-11-07/
END:VEVENT
BEGIN:VEVENT
DTSTART;TZID=UTC:20241105T150000
DTEND;TZID=UTC:20241105T170000
DTSTAMP:20260420T022542
CREATED:20230719T191655Z
LAST-MODIFIED:20230719T191655Z
UID:10000430-1730818800-1730826000@www.lostnationgolf.com
SUMMARY:Men's League
DESCRIPTION:
URL:https://www.lostnationgolf.com/event/mens-league/2024-11-05/
END:VEVENT
BEGIN:VEVENT
DTSTART;TZID=UTC:20241031T150000
DTEND;TZID=UTC:20241031T170000
DTSTAMP:20260420T022542
CREATED:20230719T191514Z
LAST-MODIFIED:20230719T191514Z
UID:10000068-1730386800-1730394000@www.lostnationgolf.com
SUMMARY:Ladies' Night
DESCRIPTION:
URL:https://www.lostnationgolf.com/event/ladies-night/2024-10-31/
END:VEVENT
BEGIN:VEVENT
DTSTART;TZID=UTC:20241029T150000
DTEND;TZID=UTC:20241029T170000
DTSTAMP:20260420T022542
CREATED:20230719T191655Z
LAST-MODIFIED:20230719T191655Z
UID:10000429-1730214000-1730221200@www.lostnationgolf.com
SUMMARY:Men's League
DESCRIPTION:
URL:https://www.lostnationgolf.com/event/mens-league/2024-10-29/
END:VEVENT
BEGIN:VEVENT
DTSTART;VALUE=DATE:20241026
DTEND;VALUE=DATE:20241027
DTSTAMP:20260420T022542
CREATED:20230719T191546Z
LAST-MODIFIED:20230719T191546Z
UID:10000310-1729900800-1729987199@www.lostnationgolf.com
SUMMARY:Golf Tournament
DESCRIPTION:
URL:https://www.lostnationgolf.com/event/golf-tournament/2024-10-26/
END:VEVENT
BEGIN:VEVENT
DTSTART;TZID=UTC:20241024T150000
DTEND;TZID=UTC:20241024T170000
DTSTAMP:20260420T022542
CREATED:20230719T191514Z
LAST-MODIFIED:20230719T191514Z
UID:10000067-1729782000-1729789200@www.lostnationgolf.com
SUMMARY:Ladies' Night
DESCRIPTION:
URL:https://www.lostnationgolf.com/event/ladies-night/2024-10-24/
END:VEVENT
BEGIN:VEVENT
DTSTART;TZID=UTC:20241022T150000
DTEND;TZID=UTC:20241022T170000
DTSTAMP:20260420T022542
CREATED:20230719T191655Z
LAST-MODIFIED:20230719T191655Z
UID:10000428-1729609200-1729616400@www.lostnationgolf.com
SUMMARY:Men's League
DESCRIPTION:
URL:https://www.lostnationgolf.com/event/mens-league/2024-10-22/
END:VEVENT
BEGIN:VEVENT
DTSTART;TZID=UTC:20241017T150000
DTEND;TZID=UTC:20241017T170000
DTSTAMP:20260420T022542
CREATED:20230719T191514Z
LAST-MODIFIED:20230719T191514Z
UID:10000066-1729177200-1729184400@www.lostnationgolf.com
SUMMARY:Ladies' Night
DESCRIPTION:
URL:https://www.lostnationgolf.com/event/ladies-night/2024-10-17/
END:VEVENT
END:VCALENDAR