BEGIN:VCALENDAR
VERSION:2.0
PRODID:-//Lost Nation Golf Course - ECPv6.15.18//NONSGML v1.0//EN
CALSCALE:GREGORIAN
METHOD:PUBLISH
X-WR-CALNAME:Lost Nation Golf Course
X-ORIGINAL-URL:https://www.lostnationgolf.com
X-WR-CALDESC:Events for Lost Nation Golf Course
REFRESH-INTERVAL;VALUE=DURATION:PT1H
X-Robots-Tag:noindex
X-PUBLISHED-TTL:PT1H
BEGIN:VTIMEZONE
TZID:UTC
BEGIN:STANDARD
TZOFFSETFROM:+0000
TZOFFSETTO:+0000
TZNAME:UTC
DTSTART:20240101T000000
END:STANDARD
END:VTIMEZONE
BEGIN:VEVENT
DTSTART;TZID=UTC:20250515T150000
DTEND;TZID=UTC:20250515T170000
DTSTAMP:20260419T224500
CREATED:20230719T191514Z
LAST-MODIFIED:20230719T191514Z
UID:10000096-1747321200-1747328400@www.lostnationgolf.com
SUMMARY:Ladies' Night
DESCRIPTION:
URL:https://www.lostnationgolf.com/event/ladies-night/2025-05-15/
END:VEVENT
BEGIN:VEVENT
DTSTART;TZID=UTC:20250513T150000
DTEND;TZID=UTC:20250513T170000
DTSTAMP:20260419T224500
CREATED:20230719T191655Z
LAST-MODIFIED:20230719T191655Z
UID:10000457-1747148400-1747155600@www.lostnationgolf.com
SUMMARY:Men's League
DESCRIPTION:
URL:https://www.lostnationgolf.com/event/mens-league/2025-05-13/
END:VEVENT
BEGIN:VEVENT
DTSTART;TZID=UTC:20250508T150000
DTEND;TZID=UTC:20250508T170000
DTSTAMP:20260419T224500
CREATED:20230719T191514Z
LAST-MODIFIED:20230719T191514Z
UID:10000095-1746716400-1746723600@www.lostnationgolf.com
SUMMARY:Ladies' Night
DESCRIPTION:
URL:https://www.lostnationgolf.com/event/ladies-night/2025-05-08/
END:VEVENT
BEGIN:VEVENT
DTSTART;TZID=UTC:20250506T150000
DTEND;TZID=UTC:20250506T170000
DTSTAMP:20260419T224500
CREATED:20230719T191655Z
LAST-MODIFIED:20230719T191655Z
UID:10000456-1746543600-1746550800@www.lostnationgolf.com
SUMMARY:Men's League
DESCRIPTION:
URL:https://www.lostnationgolf.com/event/mens-league/2025-05-06/
END:VEVENT
BEGIN:VEVENT
DTSTART;TZID=UTC:20250501T150000
DTEND;TZID=UTC:20250501T170000
DTSTAMP:20260419T224500
CREATED:20230719T191514Z
LAST-MODIFIED:20230719T191514Z
UID:10000094-1746111600-1746118800@www.lostnationgolf.com
SUMMARY:Ladies' Night
DESCRIPTION:
URL:https://www.lostnationgolf.com/event/ladies-night/2025-05-01/
END:VEVENT
BEGIN:VEVENT
DTSTART;TZID=UTC:20250429T150000
DTEND;TZID=UTC:20250429T170000
DTSTAMP:20260419T224500
CREATED:20230719T191655Z
LAST-MODIFIED:20230719T191655Z
UID:10000455-1745938800-1745946000@www.lostnationgolf.com
SUMMARY:Men's League
DESCRIPTION:
URL:https://www.lostnationgolf.com/event/mens-league/2025-04-29/
END:VEVENT
BEGIN:VEVENT
DTSTART;VALUE=DATE:20250426
DTEND;VALUE=DATE:20250427
DTSTAMP:20260419T224500
CREATED:20230719T191546Z
LAST-MODIFIED:20230719T191546Z
UID:10000316-1745625600-1745711999@www.lostnationgolf.com
SUMMARY:Golf Tournament
DESCRIPTION:
URL:https://www.lostnationgolf.com/event/golf-tournament/2025-04-26/
END:VEVENT
BEGIN:VEVENT
DTSTART;TZID=UTC:20250424T150000
DTEND;TZID=UTC:20250424T170000
DTSTAMP:20260419T224500
CREATED:20230719T191514Z
LAST-MODIFIED:20230719T191514Z
UID:10000093-1745506800-1745514000@www.lostnationgolf.com
SUMMARY:Ladies' Night
DESCRIPTION:
URL:https://www.lostnationgolf.com/event/ladies-night/2025-04-24/
END:VEVENT
BEGIN:VEVENT
DTSTART;TZID=UTC:20250422T150000
DTEND;TZID=UTC:20250422T170000
DTSTAMP:20260419T224500
CREATED:20230719T191655Z
LAST-MODIFIED:20230719T191655Z
UID:10000454-1745334000-1745341200@www.lostnationgolf.com
SUMMARY:Men's League
DESCRIPTION:
URL:https://www.lostnationgolf.com/event/mens-league/2025-04-22/
END:VEVENT
BEGIN:VEVENT
DTSTART;TZID=UTC:20250417T150000
DTEND;TZID=UTC:20250417T170000
DTSTAMP:20260419T224500
CREATED:20230719T191514Z
LAST-MODIFIED:20230719T191514Z
UID:10000092-1744902000-1744909200@www.lostnationgolf.com
SUMMARY:Ladies' Night
DESCRIPTION:
URL:https://www.lostnationgolf.com/event/ladies-night/2025-04-17/
END:VEVENT
BEGIN:VEVENT
DTSTART;TZID=UTC:20250415T150000
DTEND;TZID=UTC:20250415T170000
DTSTAMP:20260419T224500
CREATED:20230719T191655Z
LAST-MODIFIED:20230719T191655Z
UID:10000453-1744729200-1744736400@www.lostnationgolf.com
SUMMARY:Men's League
DESCRIPTION:
URL:https://www.lostnationgolf.com/event/mens-league/2025-04-15/
END:VEVENT
BEGIN:VEVENT
DTSTART;TZID=UTC:20250410T150000
DTEND;TZID=UTC:20250410T170000
DTSTAMP:20260419T224500
CREATED:20230719T191514Z
LAST-MODIFIED:20230719T191514Z
UID:10000091-1744297200-1744304400@www.lostnationgolf.com
SUMMARY:Ladies' Night
DESCRIPTION:
URL:https://www.lostnationgolf.com/event/ladies-night/2025-04-10/
END:VEVENT
BEGIN:VEVENT
DTSTART;TZID=UTC:20250408T150000
DTEND;TZID=UTC:20250408T170000
DTSTAMP:20260419T224500
CREATED:20230719T191655Z
LAST-MODIFIED:20230719T191655Z
UID:10000452-1744124400-1744131600@www.lostnationgolf.com
SUMMARY:Men's League
DESCRIPTION:
URL:https://www.lostnationgolf.com/event/mens-league/2025-04-08/
END:VEVENT
BEGIN:VEVENT
DTSTART;TZID=UTC:20250403T150000
DTEND;TZID=UTC:20250403T170000
DTSTAMP:20260419T224500
CREATED:20230719T191514Z
LAST-MODIFIED:20230719T191514Z
UID:10000090-1743692400-1743699600@www.lostnationgolf.com
SUMMARY:Ladies' Night
DESCRIPTION:
URL:https://www.lostnationgolf.com/event/ladies-night/2025-04-03/
END:VEVENT
BEGIN:VEVENT
DTSTART;TZID=UTC:20250401T150000
DTEND;TZID=UTC:20250401T170000
DTSTAMP:20260419T224500
CREATED:20230719T191655Z
LAST-MODIFIED:20230719T191655Z
UID:10000451-1743519600-1743526800@www.lostnationgolf.com
SUMMARY:Men's League
DESCRIPTION:
URL:https://www.lostnationgolf.com/event/mens-league/2025-04-01/
END:VEVENT
BEGIN:VEVENT
DTSTART;TZID=UTC:20250327T150000
DTEND;TZID=UTC:20250327T170000
DTSTAMP:20260419T224500
CREATED:20230719T191514Z
LAST-MODIFIED:20230719T191514Z
UID:10000089-1743087600-1743094800@www.lostnationgolf.com
SUMMARY:Ladies' Night
DESCRIPTION:
URL:https://www.lostnationgolf.com/event/ladies-night/2025-03-27/
END:VEVENT
BEGIN:VEVENT
DTSTART;TZID=UTC:20250325T150000
DTEND;TZID=UTC:20250325T170000
DTSTAMP:20260419T224500
CREATED:20230719T191655Z
LAST-MODIFIED:20230719T191655Z
UID:10000450-1742914800-1742922000@www.lostnationgolf.com
SUMMARY:Men's League
DESCRIPTION:
URL:https://www.lostnationgolf.com/event/mens-league/2025-03-25/
END:VEVENT
BEGIN:VEVENT
DTSTART;VALUE=DATE:20250322
DTEND;VALUE=DATE:20250323
DTSTAMP:20260419T224500
CREATED:20230719T191546Z
LAST-MODIFIED:20230719T191546Z
UID:10000315-1742601600-1742687999@www.lostnationgolf.com
SUMMARY:Golf Tournament
DESCRIPTION:
URL:https://www.lostnationgolf.com/event/golf-tournament/2025-03-22/
END:VEVENT
BEGIN:VEVENT
DTSTART;TZID=UTC:20250320T150000
DTEND;TZID=UTC:20250320T170000
DTSTAMP:20260419T224500
CREATED:20230719T191514Z
LAST-MODIFIED:20230719T191514Z
UID:10000088-1742482800-1742490000@www.lostnationgolf.com
SUMMARY:Ladies' Night
DESCRIPTION:
URL:https://www.lostnationgolf.com/event/ladies-night/2025-03-20/
END:VEVENT
BEGIN:VEVENT
DTSTART;TZID=UTC:20250318T150000
DTEND;TZID=UTC:20250318T170000
DTSTAMP:20260419T224500
CREATED:20230719T191655Z
LAST-MODIFIED:20230719T191655Z
UID:10000449-1742310000-1742317200@www.lostnationgolf.com
SUMMARY:Men's League
DESCRIPTION:
URL:https://www.lostnationgolf.com/event/mens-league/2025-03-18/
END:VEVENT
BEGIN:VEVENT
DTSTART;TZID=UTC:20250313T150000
DTEND;TZID=UTC:20250313T170000
DTSTAMP:20260419T224500
CREATED:20230719T191514Z
LAST-MODIFIED:20230719T191514Z
UID:10000087-1741878000-1741885200@www.lostnationgolf.com
SUMMARY:Ladies' Night
DESCRIPTION:
URL:https://www.lostnationgolf.com/event/ladies-night/2025-03-13/
END:VEVENT
BEGIN:VEVENT
DTSTART;TZID=UTC:20250311T150000
DTEND;TZID=UTC:20250311T170000
DTSTAMP:20260419T224500
CREATED:20230719T191655Z
LAST-MODIFIED:20230719T191655Z
UID:10000448-1741705200-1741712400@www.lostnationgolf.com
SUMMARY:Men's League
DESCRIPTION:
URL:https://www.lostnationgolf.com/event/mens-league/2025-03-11/
END:VEVENT
BEGIN:VEVENT
DTSTART;TZID=UTC:20250306T150000
DTEND;TZID=UTC:20250306T170000
DTSTAMP:20260419T224500
CREATED:20230719T191514Z
LAST-MODIFIED:20230719T191514Z
UID:10000086-1741273200-1741280400@www.lostnationgolf.com
SUMMARY:Ladies' Night
DESCRIPTION:
URL:https://www.lostnationgolf.com/event/ladies-night/2025-03-06/
END:VEVENT
BEGIN:VEVENT
DTSTART;TZID=UTC:20250304T150000
DTEND;TZID=UTC:20250304T170000
DTSTAMP:20260419T224500
CREATED:20230719T191655Z
LAST-MODIFIED:20230719T191655Z
UID:10000447-1741100400-1741107600@www.lostnationgolf.com
SUMMARY:Men's League
DESCRIPTION:
URL:https://www.lostnationgolf.com/event/mens-league/2025-03-04/
END:VEVENT
BEGIN:VEVENT
DTSTART;TZID=UTC:20250227T150000
DTEND;TZID=UTC:20250227T170000
DTSTAMP:20260419T224500
CREATED:20230719T191514Z
LAST-MODIFIED:20230719T191514Z
UID:10000085-1740668400-1740675600@www.lostnationgolf.com
SUMMARY:Ladies' Night
DESCRIPTION:
URL:https://www.lostnationgolf.com/event/ladies-night/2025-02-27/
END:VEVENT
BEGIN:VEVENT
DTSTART;TZID=UTC:20250225T150000
DTEND;TZID=UTC:20250225T170000
DTSTAMP:20260419T224500
CREATED:20230719T191655Z
LAST-MODIFIED:20230719T191655Z
UID:10000446-1740495600-1740502800@www.lostnationgolf.com
SUMMARY:Men's League
DESCRIPTION:
URL:https://www.lostnationgolf.com/event/mens-league/2025-02-25/
END:VEVENT
BEGIN:VEVENT
DTSTART;VALUE=DATE:20250222
DTEND;VALUE=DATE:20250223
DTSTAMP:20260419T224500
CREATED:20230719T191546Z
LAST-MODIFIED:20230719T191546Z
UID:10000314-1740182400-1740268799@www.lostnationgolf.com
SUMMARY:Golf Tournament
DESCRIPTION:
URL:https://www.lostnationgolf.com/event/golf-tournament/2025-02-22/
END:VEVENT
BEGIN:VEVENT
DTSTART;TZID=UTC:20250220T150000
DTEND;TZID=UTC:20250220T170000
DTSTAMP:20260419T224500
CREATED:20230719T191514Z
LAST-MODIFIED:20230719T191514Z
UID:10000084-1740063600-1740070800@www.lostnationgolf.com
SUMMARY:Ladies' Night
DESCRIPTION:
URL:https://www.lostnationgolf.com/event/ladies-night/2025-02-20/
END:VEVENT
BEGIN:VEVENT
DTSTART;TZID=UTC:20250218T150000
DTEND;TZID=UTC:20250218T170000
DTSTAMP:20260419T224500
CREATED:20230719T191655Z
LAST-MODIFIED:20230719T191655Z
UID:10000445-1739890800-1739898000@www.lostnationgolf.com
SUMMARY:Men's League
DESCRIPTION:
URL:https://www.lostnationgolf.com/event/mens-league/2025-02-18/
END:VEVENT
BEGIN:VEVENT
DTSTART;TZID=UTC:20250213T150000
DTEND;TZID=UTC:20250213T170000
DTSTAMP:20260419T224500
CREATED:20230719T191514Z
LAST-MODIFIED:20230719T191514Z
UID:10000083-1739458800-1739466000@www.lostnationgolf.com
SUMMARY:Ladies' Night
DESCRIPTION:
URL:https://www.lostnationgolf.com/event/ladies-night/2025-02-13/
END:VEVENT
END:VCALENDAR