BEGIN:VCALENDAR
VERSION:2.0
PRODID:-//Lost Nation Golf Course - ECPv6.15.18//NONSGML v1.0//EN
CALSCALE:GREGORIAN
METHOD:PUBLISH
X-ORIGINAL-URL:https://www.lostnationgolf.com
X-WR-CALDESC:Events for Lost Nation Golf Course
REFRESH-INTERVAL;VALUE=DURATION:PT1H
X-Robots-Tag:noindex
X-PUBLISHED-TTL:PT1H
BEGIN:VTIMEZONE
TZID:UTC
BEGIN:STANDARD
TZOFFSETFROM:+0000
TZOFFSETTO:+0000
TZNAME:UTC
DTSTART:20260101T000000
END:STANDARD
END:VTIMEZONE
BEGIN:VEVENT
DTSTART;TZID=UTC:20270415T150000
DTEND;TZID=UTC:20270415T170000
DTSTAMP:20260419T224023
CREATED:20230719T191514Z
LAST-MODIFIED:20230719T191514Z
UID:10000196-1807801200-1807808400@www.lostnationgolf.com
SUMMARY:Ladies' Night
DESCRIPTION:
URL:https://www.lostnationgolf.com/event/ladies-night/2027-04-15/
END:VEVENT
BEGIN:VEVENT
DTSTART;TZID=UTC:20270420T150000
DTEND;TZID=UTC:20270420T170000
DTSTAMP:20260419T224023
CREATED:20230719T191655Z
LAST-MODIFIED:20230719T191655Z
UID:10000558-1808233200-1808240400@www.lostnationgolf.com
SUMMARY:Men's League
DESCRIPTION:
URL:https://www.lostnationgolf.com/event/mens-league/2027-04-20/
END:VEVENT
BEGIN:VEVENT
DTSTART;TZID=UTC:20270422T150000
DTEND;TZID=UTC:20270422T170000
DTSTAMP:20260419T224023
CREATED:20230719T191514Z
LAST-MODIFIED:20230719T191514Z
UID:10000197-1808406000-1808413200@www.lostnationgolf.com
SUMMARY:Ladies' Night
DESCRIPTION:
URL:https://www.lostnationgolf.com/event/ladies-night/2027-04-22/
END:VEVENT
BEGIN:VEVENT
DTSTART;VALUE=DATE:20270424
DTEND;VALUE=DATE:20270425
DTSTAMP:20260419T224023
CREATED:20230719T191546Z
LAST-MODIFIED:20230719T191546Z
UID:10000340-1808524800-1808611199@www.lostnationgolf.com
SUMMARY:Golf Tournament
DESCRIPTION:
URL:https://www.lostnationgolf.com/event/golf-tournament/2027-04-24/
END:VEVENT
BEGIN:VEVENT
DTSTART;TZID=UTC:20270427T150000
DTEND;TZID=UTC:20270427T170000
DTSTAMP:20260419T224023
CREATED:20230719T191655Z
LAST-MODIFIED:20230719T191655Z
UID:10000559-1808838000-1808845200@www.lostnationgolf.com
SUMMARY:Men's League
DESCRIPTION:
URL:https://www.lostnationgolf.com/event/mens-league/2027-04-27/
END:VEVENT
BEGIN:VEVENT
DTSTART;TZID=UTC:20270429T150000
DTEND;TZID=UTC:20270429T170000
DTSTAMP:20260419T224023
CREATED:20230719T191514Z
LAST-MODIFIED:20230719T191514Z
UID:10000198-1809010800-1809018000@www.lostnationgolf.com
SUMMARY:Ladies' Night
DESCRIPTION:
URL:https://www.lostnationgolf.com/event/ladies-night/2027-04-29/
END:VEVENT
BEGIN:VEVENT
DTSTART;TZID=UTC:20270504T150000
DTEND;TZID=UTC:20270504T170000
DTSTAMP:20260419T224023
CREATED:20230719T191655Z
LAST-MODIFIED:20230719T191655Z
UID:10000560-1809442800-1809450000@www.lostnationgolf.com
SUMMARY:Men's League
DESCRIPTION:
URL:https://www.lostnationgolf.com/event/mens-league/2027-05-04/
END:VEVENT
BEGIN:VEVENT
DTSTART;TZID=UTC:20270506T150000
DTEND;TZID=UTC:20270506T170000
DTSTAMP:20260419T224023
CREATED:20230719T191514Z
LAST-MODIFIED:20230719T191514Z
UID:10000199-1809615600-1809622800@www.lostnationgolf.com
SUMMARY:Ladies' Night
DESCRIPTION:
URL:https://www.lostnationgolf.com/event/ladies-night/2027-05-06/
END:VEVENT
BEGIN:VEVENT
DTSTART;TZID=UTC:20270511T150000
DTEND;TZID=UTC:20270511T170000
DTSTAMP:20260419T224023
CREATED:20230719T191655Z
LAST-MODIFIED:20230719T191655Z
UID:10000561-1810047600-1810054800@www.lostnationgolf.com
SUMMARY:Men's League
DESCRIPTION:
URL:https://www.lostnationgolf.com/event/mens-league/2027-05-11/
END:VEVENT
BEGIN:VEVENT
DTSTART;TZID=UTC:20270513T150000
DTEND;TZID=UTC:20270513T170000
DTSTAMP:20260419T224023
CREATED:20230719T191514Z
LAST-MODIFIED:20230719T191514Z
UID:10000200-1810220400-1810227600@www.lostnationgolf.com
SUMMARY:Ladies' Night
DESCRIPTION:
URL:https://www.lostnationgolf.com/event/ladies-night/2027-05-13/
END:VEVENT
BEGIN:VEVENT
DTSTART;TZID=UTC:20270518T150000
DTEND;TZID=UTC:20270518T170000
DTSTAMP:20260419T224023
CREATED:20230719T191655Z
LAST-MODIFIED:20230719T191655Z
UID:10000562-1810652400-1810659600@www.lostnationgolf.com
SUMMARY:Men's League
DESCRIPTION:
URL:https://www.lostnationgolf.com/event/mens-league/2027-05-18/
END:VEVENT
BEGIN:VEVENT
DTSTART;TZID=UTC:20270520T150000
DTEND;TZID=UTC:20270520T170000
DTSTAMP:20260419T224023
CREATED:20230719T191514Z
LAST-MODIFIED:20230719T191514Z
UID:10000201-1810825200-1810832400@www.lostnationgolf.com
SUMMARY:Ladies' Night
DESCRIPTION:
URL:https://www.lostnationgolf.com/event/ladies-night/2027-05-20/
END:VEVENT
BEGIN:VEVENT
DTSTART;VALUE=DATE:20270522
DTEND;VALUE=DATE:20270523
DTSTAMP:20260419T224023
CREATED:20230719T191546Z
LAST-MODIFIED:20230719T191546Z
UID:10000341-1810944000-1811030399@www.lostnationgolf.com
SUMMARY:Golf Tournament
DESCRIPTION:
URL:https://www.lostnationgolf.com/event/golf-tournament/2027-05-22/
END:VEVENT
BEGIN:VEVENT
DTSTART;TZID=UTC:20270525T150000
DTEND;TZID=UTC:20270525T170000
DTSTAMP:20260419T224023
CREATED:20230719T191655Z
LAST-MODIFIED:20230719T191655Z
UID:10000563-1811257200-1811264400@www.lostnationgolf.com
SUMMARY:Men's League
DESCRIPTION:
URL:https://www.lostnationgolf.com/event/mens-league/2027-05-25/
END:VEVENT
BEGIN:VEVENT
DTSTART;TZID=UTC:20270527T150000
DTEND;TZID=UTC:20270527T170000
DTSTAMP:20260419T224023
CREATED:20230719T191514Z
LAST-MODIFIED:20230719T191514Z
UID:10000202-1811430000-1811437200@www.lostnationgolf.com
SUMMARY:Ladies' Night
DESCRIPTION:
URL:https://www.lostnationgolf.com/event/ladies-night/2027-05-27/
END:VEVENT
BEGIN:VEVENT
DTSTART;TZID=UTC:20270601T150000
DTEND;TZID=UTC:20270601T170000
DTSTAMP:20260419T224023
CREATED:20230719T191655Z
LAST-MODIFIED:20230719T191655Z
UID:10000564-1811862000-1811869200@www.lostnationgolf.com
SUMMARY:Men's League
DESCRIPTION:
URL:https://www.lostnationgolf.com/event/mens-league/2027-06-01/
END:VEVENT
BEGIN:VEVENT
DTSTART;TZID=UTC:20270603T150000
DTEND;TZID=UTC:20270603T170000
DTSTAMP:20260419T224023
CREATED:20230719T191514Z
LAST-MODIFIED:20230719T191514Z
UID:10000203-1812034800-1812042000@www.lostnationgolf.com
SUMMARY:Ladies' Night
DESCRIPTION:
URL:https://www.lostnationgolf.com/event/ladies-night/2027-06-03/
END:VEVENT
BEGIN:VEVENT
DTSTART;TZID=UTC:20270608T150000
DTEND;TZID=UTC:20270608T170000
DTSTAMP:20260419T224023
CREATED:20230719T191655Z
LAST-MODIFIED:20230719T191655Z
UID:10000565-1812466800-1812474000@www.lostnationgolf.com
SUMMARY:Men's League
DESCRIPTION:
URL:https://www.lostnationgolf.com/event/mens-league/2027-06-08/
END:VEVENT
BEGIN:VEVENT
DTSTART;TZID=UTC:20270610T150000
DTEND;TZID=UTC:20270610T170000
DTSTAMP:20260419T224023
CREATED:20230719T191514Z
LAST-MODIFIED:20230719T191514Z
UID:10000204-1812639600-1812646800@www.lostnationgolf.com
SUMMARY:Ladies' Night
DESCRIPTION:
URL:https://www.lostnationgolf.com/event/ladies-night/2027-06-10/
END:VEVENT
BEGIN:VEVENT
DTSTART;TZID=UTC:20270615T150000
DTEND;TZID=UTC:20270615T170000
DTSTAMP:20260419T224023
CREATED:20230719T191655Z
LAST-MODIFIED:20230719T191655Z
UID:10000566-1813071600-1813078800@www.lostnationgolf.com
SUMMARY:Men's League
DESCRIPTION:
URL:https://www.lostnationgolf.com/event/mens-league/2027-06-15/
END:VEVENT
BEGIN:VEVENT
DTSTART;TZID=UTC:20270617T150000
DTEND;TZID=UTC:20270617T170000
DTSTAMP:20260419T224023
CREATED:20230719T191514Z
LAST-MODIFIED:20230719T191514Z
UID:10000205-1813244400-1813251600@www.lostnationgolf.com
SUMMARY:Ladies' Night
DESCRIPTION:
URL:https://www.lostnationgolf.com/event/ladies-night/2027-06-17/
END:VEVENT
BEGIN:VEVENT
DTSTART;TZID=UTC:20270622T150000
DTEND;TZID=UTC:20270622T170000
DTSTAMP:20260419T224023
CREATED:20230719T191655Z
LAST-MODIFIED:20230719T191655Z
UID:10000567-1813676400-1813683600@www.lostnationgolf.com
SUMMARY:Men's League
DESCRIPTION:
URL:https://www.lostnationgolf.com/event/mens-league/2027-06-22/
END:VEVENT
BEGIN:VEVENT
DTSTART;TZID=UTC:20270624T150000
DTEND;TZID=UTC:20270624T170000
DTSTAMP:20260419T224023
CREATED:20230719T191514Z
LAST-MODIFIED:20230719T191514Z
UID:10000206-1813849200-1813856400@www.lostnationgolf.com
SUMMARY:Ladies' Night
DESCRIPTION:
URL:https://www.lostnationgolf.com/event/ladies-night/2027-06-24/
END:VEVENT
BEGIN:VEVENT
DTSTART;VALUE=DATE:20270626
DTEND;VALUE=DATE:20270627
DTSTAMP:20260419T224023
CREATED:20230719T191546Z
LAST-MODIFIED:20230719T191546Z
UID:10000342-1813968000-1814054399@www.lostnationgolf.com
SUMMARY:Golf Tournament
DESCRIPTION:
URL:https://www.lostnationgolf.com/event/golf-tournament/2027-06-26/
END:VEVENT
BEGIN:VEVENT
DTSTART;TZID=UTC:20270629T150000
DTEND;TZID=UTC:20270629T170000
DTSTAMP:20260419T224023
CREATED:20230719T191655Z
LAST-MODIFIED:20230719T191655Z
UID:10000568-1814281200-1814288400@www.lostnationgolf.com
SUMMARY:Men's League
DESCRIPTION:
URL:https://www.lostnationgolf.com/event/mens-league/2027-06-29/
END:VEVENT
BEGIN:VEVENT
DTSTART;TZID=UTC:20270701T150000
DTEND;TZID=UTC:20270701T170000
DTSTAMP:20260419T224023
CREATED:20230719T191514Z
LAST-MODIFIED:20230719T191514Z
UID:10000207-1814454000-1814461200@www.lostnationgolf.com
SUMMARY:Ladies' Night
DESCRIPTION:
URL:https://www.lostnationgolf.com/event/ladies-night/2027-07-01/
END:VEVENT
BEGIN:VEVENT
DTSTART;TZID=UTC:20270706T150000
DTEND;TZID=UTC:20270706T170000
DTSTAMP:20260419T224023
CREATED:20230719T191655Z
LAST-MODIFIED:20230719T191655Z
UID:10000569-1814886000-1814893200@www.lostnationgolf.com
SUMMARY:Men's League
DESCRIPTION:
URL:https://www.lostnationgolf.com/event/mens-league/2027-07-06/
END:VEVENT
BEGIN:VEVENT
DTSTART;TZID=UTC:20270708T150000
DTEND;TZID=UTC:20270708T170000
DTSTAMP:20260419T224023
CREATED:20230719T191514Z
LAST-MODIFIED:20230719T191514Z
UID:10000208-1815058800-1815066000@www.lostnationgolf.com
SUMMARY:Ladies' Night
DESCRIPTION:
URL:https://www.lostnationgolf.com/event/ladies-night/2027-07-08/
END:VEVENT
BEGIN:VEVENT
DTSTART;TZID=UTC:20270713T150000
DTEND;TZID=UTC:20270713T170000
DTSTAMP:20260419T224023
CREATED:20230719T191655Z
LAST-MODIFIED:20230719T191655Z
UID:10000570-1815490800-1815498000@www.lostnationgolf.com
SUMMARY:Men's League
DESCRIPTION:
URL:https://www.lostnationgolf.com/event/mens-league/2027-07-13/
END:VEVENT
BEGIN:VEVENT
DTSTART;TZID=UTC:20270715T150000
DTEND;TZID=UTC:20270715T170000
DTSTAMP:20260419T224023
CREATED:20230719T191514Z
LAST-MODIFIED:20230719T191514Z
UID:10000209-1815663600-1815670800@www.lostnationgolf.com
SUMMARY:Ladies' Night
DESCRIPTION:
URL:https://www.lostnationgolf.com/event/ladies-night/2027-07-15/
END:VEVENT
END:VCALENDAR