BEGIN:VCALENDAR
VERSION:2.0
PRODID:-//Lost Nation Golf Course - ECPv6.15.18//NONSGML v1.0//EN
CALSCALE:GREGORIAN
METHOD:PUBLISH
X-WR-CALNAME:Lost Nation Golf Course
X-ORIGINAL-URL:https://www.lostnationgolf.com
X-WR-CALDESC:Events for Lost Nation Golf Course
REFRESH-INTERVAL;VALUE=DURATION:PT1H
X-Robots-Tag:noindex
X-PUBLISHED-TTL:PT1H
BEGIN:VTIMEZONE
TZID:UTC
BEGIN:STANDARD
TZOFFSETFROM:+0000
TZOFFSETTO:+0000
TZNAME:UTC
DTSTART:20240101T000000
END:STANDARD
END:VTIMEZONE
BEGIN:VEVENT
DTSTART;TZID=UTC:20250911T150000
DTEND;TZID=UTC:20250911T170000
DTSTAMP:20260419T224722
CREATED:20230719T191514Z
LAST-MODIFIED:20230719T191514Z
UID:10000113-1757602800-1757610000@www.lostnationgolf.com
SUMMARY:Ladies' Night
DESCRIPTION:
URL:https://www.lostnationgolf.com/event/ladies-night/2025-09-11/
END:VEVENT
BEGIN:VEVENT
DTSTART;TZID=UTC:20250909T150000
DTEND;TZID=UTC:20250909T170000
DTSTAMP:20260419T224722
CREATED:20230719T191655Z
LAST-MODIFIED:20230719T191655Z
UID:10000474-1757430000-1757437200@www.lostnationgolf.com
SUMMARY:Men's League
DESCRIPTION:
URL:https://www.lostnationgolf.com/event/mens-league/2025-09-09/
END:VEVENT
BEGIN:VEVENT
DTSTART;TZID=UTC:20250904T150000
DTEND;TZID=UTC:20250904T170000
DTSTAMP:20260419T224722
CREATED:20230719T191514Z
LAST-MODIFIED:20230719T191514Z
UID:10000112-1756998000-1757005200@www.lostnationgolf.com
SUMMARY:Ladies' Night
DESCRIPTION:
URL:https://www.lostnationgolf.com/event/ladies-night/2025-09-04/
END:VEVENT
BEGIN:VEVENT
DTSTART;TZID=UTC:20250902T150000
DTEND;TZID=UTC:20250902T170000
DTSTAMP:20260419T224722
CREATED:20230719T191655Z
LAST-MODIFIED:20230719T191655Z
UID:10000473-1756825200-1756832400@www.lostnationgolf.com
SUMMARY:Men's League
DESCRIPTION:
URL:https://www.lostnationgolf.com/event/mens-league/2025-09-02/
END:VEVENT
BEGIN:VEVENT
DTSTART;TZID=UTC:20250828T150000
DTEND;TZID=UTC:20250828T170000
DTSTAMP:20260419T224722
CREATED:20230719T191514Z
LAST-MODIFIED:20230719T191514Z
UID:10000111-1756393200-1756400400@www.lostnationgolf.com
SUMMARY:Ladies' Night
DESCRIPTION:
URL:https://www.lostnationgolf.com/event/ladies-night/2025-08-28/
END:VEVENT
BEGIN:VEVENT
DTSTART;TZID=UTC:20250826T150000
DTEND;TZID=UTC:20250826T170000
DTSTAMP:20260419T224722
CREATED:20230719T191655Z
LAST-MODIFIED:20230719T191655Z
UID:10000472-1756220400-1756227600@www.lostnationgolf.com
SUMMARY:Men's League
DESCRIPTION:
URL:https://www.lostnationgolf.com/event/mens-league/2025-08-26/
END:VEVENT
BEGIN:VEVENT
DTSTART;VALUE=DATE:20250823
DTEND;VALUE=DATE:20250824
DTSTAMP:20260419T224722
CREATED:20230719T191546Z
LAST-MODIFIED:20230719T191546Z
UID:10000320-1755907200-1755993599@www.lostnationgolf.com
SUMMARY:Golf Tournament
DESCRIPTION:
URL:https://www.lostnationgolf.com/event/golf-tournament/2025-08-23/
END:VEVENT
BEGIN:VEVENT
DTSTART;TZID=UTC:20250821T150000
DTEND;TZID=UTC:20250821T170000
DTSTAMP:20260419T224722
CREATED:20230719T191514Z
LAST-MODIFIED:20230719T191514Z
UID:10000110-1755788400-1755795600@www.lostnationgolf.com
SUMMARY:Ladies' Night
DESCRIPTION:
URL:https://www.lostnationgolf.com/event/ladies-night/2025-08-21/
END:VEVENT
BEGIN:VEVENT
DTSTART;TZID=UTC:20250819T150000
DTEND;TZID=UTC:20250819T170000
DTSTAMP:20260419T224722
CREATED:20230719T191655Z
LAST-MODIFIED:20230719T191655Z
UID:10000471-1755615600-1755622800@www.lostnationgolf.com
SUMMARY:Men's League
DESCRIPTION:
URL:https://www.lostnationgolf.com/event/mens-league/2025-08-19/
END:VEVENT
BEGIN:VEVENT
DTSTART;TZID=UTC:20250814T150000
DTEND;TZID=UTC:20250814T170000
DTSTAMP:20260419T224722
CREATED:20230719T191514Z
LAST-MODIFIED:20230719T191514Z
UID:10000109-1755183600-1755190800@www.lostnationgolf.com
SUMMARY:Ladies' Night
DESCRIPTION:
URL:https://www.lostnationgolf.com/event/ladies-night/2025-08-14/
END:VEVENT
BEGIN:VEVENT
DTSTART;TZID=UTC:20250812T150000
DTEND;TZID=UTC:20250812T170000
DTSTAMP:20260419T224722
CREATED:20230719T191655Z
LAST-MODIFIED:20230719T191655Z
UID:10000470-1755010800-1755018000@www.lostnationgolf.com
SUMMARY:Men's League
DESCRIPTION:
URL:https://www.lostnationgolf.com/event/mens-league/2025-08-12/
END:VEVENT
BEGIN:VEVENT
DTSTART;TZID=UTC:20250807T150000
DTEND;TZID=UTC:20250807T170000
DTSTAMP:20260419T224722
CREATED:20230719T191514Z
LAST-MODIFIED:20230719T191514Z
UID:10000108-1754578800-1754586000@www.lostnationgolf.com
SUMMARY:Ladies' Night
DESCRIPTION:
URL:https://www.lostnationgolf.com/event/ladies-night/2025-08-07/
END:VEVENT
BEGIN:VEVENT
DTSTART;TZID=UTC:20250805T150000
DTEND;TZID=UTC:20250805T170000
DTSTAMP:20260419T224722
CREATED:20230719T191655Z
LAST-MODIFIED:20230719T191655Z
UID:10000469-1754406000-1754413200@www.lostnationgolf.com
SUMMARY:Men's League
DESCRIPTION:
URL:https://www.lostnationgolf.com/event/mens-league/2025-08-05/
END:VEVENT
BEGIN:VEVENT
DTSTART;TZID=UTC:20250731T150000
DTEND;TZID=UTC:20250731T170000
DTSTAMP:20260419T224722
CREATED:20230719T191514Z
LAST-MODIFIED:20230719T191514Z
UID:10000107-1753974000-1753981200@www.lostnationgolf.com
SUMMARY:Ladies' Night
DESCRIPTION:
URL:https://www.lostnationgolf.com/event/ladies-night/2025-07-31/
END:VEVENT
BEGIN:VEVENT
DTSTART;TZID=UTC:20250729T150000
DTEND;TZID=UTC:20250729T170000
DTSTAMP:20260419T224722
CREATED:20230719T191655Z
LAST-MODIFIED:20230719T191655Z
UID:10000468-1753801200-1753808400@www.lostnationgolf.com
SUMMARY:Men's League
DESCRIPTION:
URL:https://www.lostnationgolf.com/event/mens-league/2025-07-29/
END:VEVENT
BEGIN:VEVENT
DTSTART;VALUE=DATE:20250726
DTEND;VALUE=DATE:20250727
DTSTAMP:20260419T224722
CREATED:20230719T191546Z
LAST-MODIFIED:20230719T191546Z
UID:10000319-1753488000-1753574399@www.lostnationgolf.com
SUMMARY:Golf Tournament
DESCRIPTION:
URL:https://www.lostnationgolf.com/event/golf-tournament/2025-07-26/
END:VEVENT
BEGIN:VEVENT
DTSTART;TZID=UTC:20250724T150000
DTEND;TZID=UTC:20250724T170000
DTSTAMP:20260419T224722
CREATED:20230719T191514Z
LAST-MODIFIED:20230719T191514Z
UID:10000106-1753369200-1753376400@www.lostnationgolf.com
SUMMARY:Ladies' Night
DESCRIPTION:
URL:https://www.lostnationgolf.com/event/ladies-night/2025-07-24/
END:VEVENT
BEGIN:VEVENT
DTSTART;TZID=UTC:20250722T150000
DTEND;TZID=UTC:20250722T170000
DTSTAMP:20260419T224722
CREATED:20230719T191655Z
LAST-MODIFIED:20230719T191655Z
UID:10000467-1753196400-1753203600@www.lostnationgolf.com
SUMMARY:Men's League
DESCRIPTION:
URL:https://www.lostnationgolf.com/event/mens-league/2025-07-22/
END:VEVENT
BEGIN:VEVENT
DTSTART;TZID=UTC:20250717T150000
DTEND;TZID=UTC:20250717T170000
DTSTAMP:20260419T224722
CREATED:20230719T191514Z
LAST-MODIFIED:20230719T191514Z
UID:10000105-1752764400-1752771600@www.lostnationgolf.com
SUMMARY:Ladies' Night
DESCRIPTION:
URL:https://www.lostnationgolf.com/event/ladies-night/2025-07-17/
END:VEVENT
BEGIN:VEVENT
DTSTART;TZID=UTC:20250715T150000
DTEND;TZID=UTC:20250715T170000
DTSTAMP:20260419T224722
CREATED:20230719T191655Z
LAST-MODIFIED:20230719T191655Z
UID:10000466-1752591600-1752598800@www.lostnationgolf.com
SUMMARY:Men's League
DESCRIPTION:
URL:https://www.lostnationgolf.com/event/mens-league/2025-07-15/
END:VEVENT
BEGIN:VEVENT
DTSTART;TZID=UTC:20250710T150000
DTEND;TZID=UTC:20250710T170000
DTSTAMP:20260419T224722
CREATED:20230719T191514Z
LAST-MODIFIED:20230719T191514Z
UID:10000104-1752159600-1752166800@www.lostnationgolf.com
SUMMARY:Ladies' Night
DESCRIPTION:
URL:https://www.lostnationgolf.com/event/ladies-night/2025-07-10/
END:VEVENT
BEGIN:VEVENT
DTSTART;TZID=UTC:20250708T150000
DTEND;TZID=UTC:20250708T170000
DTSTAMP:20260419T224722
CREATED:20230719T191655Z
LAST-MODIFIED:20230719T191655Z
UID:10000465-1751986800-1751994000@www.lostnationgolf.com
SUMMARY:Men's League
DESCRIPTION:
URL:https://www.lostnationgolf.com/event/mens-league/2025-07-08/
END:VEVENT
BEGIN:VEVENT
DTSTART;TZID=UTC:20250703T150000
DTEND;TZID=UTC:20250703T170000
DTSTAMP:20260419T224722
CREATED:20230719T191514Z
LAST-MODIFIED:20230719T191514Z
UID:10000103-1751554800-1751562000@www.lostnationgolf.com
SUMMARY:Ladies' Night
DESCRIPTION:
URL:https://www.lostnationgolf.com/event/ladies-night/2025-07-03/
END:VEVENT
BEGIN:VEVENT
DTSTART;TZID=UTC:20250701T150000
DTEND;TZID=UTC:20250701T170000
DTSTAMP:20260419T224722
CREATED:20230719T191655Z
LAST-MODIFIED:20230719T191655Z
UID:10000464-1751382000-1751389200@www.lostnationgolf.com
SUMMARY:Men's League
DESCRIPTION:
URL:https://www.lostnationgolf.com/event/mens-league/2025-07-01/
END:VEVENT
BEGIN:VEVENT
DTSTART;VALUE=DATE:20250628
DTEND;VALUE=DATE:20250629
DTSTAMP:20260419T224722
CREATED:20230719T191546Z
LAST-MODIFIED:20230719T191546Z
UID:10000318-1751068800-1751155199@www.lostnationgolf.com
SUMMARY:Golf Tournament
DESCRIPTION:
URL:https://www.lostnationgolf.com/event/golf-tournament/2025-06-28/
END:VEVENT
BEGIN:VEVENT
DTSTART;TZID=UTC:20250626T150000
DTEND;TZID=UTC:20250626T170000
DTSTAMP:20260419T224722
CREATED:20230719T191514Z
LAST-MODIFIED:20230719T191514Z
UID:10000102-1750950000-1750957200@www.lostnationgolf.com
SUMMARY:Ladies' Night
DESCRIPTION:
URL:https://www.lostnationgolf.com/event/ladies-night/2025-06-26/
END:VEVENT
BEGIN:VEVENT
DTSTART;TZID=UTC:20250624T150000
DTEND;TZID=UTC:20250624T170000
DTSTAMP:20260419T224722
CREATED:20230719T191655Z
LAST-MODIFIED:20230719T191655Z
UID:10000463-1750777200-1750784400@www.lostnationgolf.com
SUMMARY:Men's League
DESCRIPTION:
URL:https://www.lostnationgolf.com/event/mens-league/2025-06-24/
END:VEVENT
BEGIN:VEVENT
DTSTART;TZID=UTC:20250619T150000
DTEND;TZID=UTC:20250619T170000
DTSTAMP:20260419T224722
CREATED:20230719T191514Z
LAST-MODIFIED:20230719T191514Z
UID:10000101-1750345200-1750352400@www.lostnationgolf.com
SUMMARY:Ladies' Night
DESCRIPTION:
URL:https://www.lostnationgolf.com/event/ladies-night/2025-06-19/
END:VEVENT
BEGIN:VEVENT
DTSTART;TZID=UTC:20250617T150000
DTEND;TZID=UTC:20250617T170000
DTSTAMP:20260419T224722
CREATED:20230719T191655Z
LAST-MODIFIED:20230719T191655Z
UID:10000462-1750172400-1750179600@www.lostnationgolf.com
SUMMARY:Men's League
DESCRIPTION:
URL:https://www.lostnationgolf.com/event/mens-league/2025-06-17/
END:VEVENT
BEGIN:VEVENT
DTSTART;TZID=UTC:20250612T150000
DTEND;TZID=UTC:20250612T170000
DTSTAMP:20260419T224722
CREATED:20230719T191514Z
LAST-MODIFIED:20230719T191514Z
UID:10000100-1749740400-1749747600@www.lostnationgolf.com
SUMMARY:Ladies' Night
DESCRIPTION:
URL:https://www.lostnationgolf.com/event/ladies-night/2025-06-12/
END:VEVENT
END:VCALENDAR